BEGIN:VCALENDAR
VERSION:2.0
PRODID:-//District 99 Toastmasters - ECPv6.15.18//NONSGML v1.0//EN
CALSCALE:GREGORIAN
METHOD:PUBLISH
X-WR-CALNAME:District 99 Toastmasters
X-ORIGINAL-URL:https://d99tm.org
X-WR-CALDESC:Events for District 99 Toastmasters
REFRESH-INTERVAL;VALUE=DURATION:PT1H
X-Robots-Tag:noindex
X-PUBLISHED-TTL:PT1H
BEGIN:VTIMEZONE
TZID:America/Edmonton
BEGIN:DAYLIGHT
TZOFFSETFROM:-0700
TZOFFSETTO:-0600
TZNAME:MDT
DTSTART:20250309T090000
END:DAYLIGHT
BEGIN:STANDARD
TZOFFSETFROM:-0600
TZOFFSETTO:-0700
TZNAME:MST
DTSTART:20251102T080000
END:STANDARD
BEGIN:DAYLIGHT
TZOFFSETFROM:-0700
TZOFFSETTO:-0600
TZNAME:MDT
DTSTART:20260308T090000
END:DAYLIGHT
BEGIN:STANDARD
TZOFFSETFROM:-0600
TZOFFSETTO:-0700
TZNAME:MST
DTSTART:20261101T080000
END:STANDARD
BEGIN:DAYLIGHT
TZOFFSETFROM:-0700
TZOFFSETTO:-0600
TZNAME:MDT
DTSTART:20270314T090000
END:DAYLIGHT
BEGIN:STANDARD
TZOFFSETFROM:-0600
TZOFFSETTO:-0700
TZNAME:MST
DTSTART:20271107T080000
END:STANDARD
END:VTIMEZONE
BEGIN:VEVENT
DTSTART;VALUE=DATE:20260314
DTEND;VALUE=DATE:20260315
DTSTAMP:20260424T201559
CREATED:20251203T034032Z
LAST-MODIFIED:20260129T205238Z
UID:14580-1773446400-1773532799@d99tm.org
SUMMARY:Speech Contest Area E05 (Prince Albert)
DESCRIPTION:Times TBD
URL:https://d99tm.org/event/speech-contest-area-e05/
CATEGORIES:Area,Contests,Contests
ATTACH;FMTTYPE=image/png:https://d99tm.org/wp-content/uploads/2025/12/Speech-Contest.png
END:VEVENT
BEGIN:VEVENT
DTSTART;TZID=America/Edmonton:20260314T090000
DTEND;TZID=America/Edmonton:20260314T110000
DTSTAMP:20260424T201559
CREATED:20260228T211736Z
LAST-MODIFIED:20260304T024233Z
UID:14866-1773478800-1773486000@d99tm.org
SUMMARY:How to Make Pathways Work for You
DESCRIPTION:Are you getting real value from Pathways… or just completing projects?\n\nIf you want to get more out of your Toastmasters journey\, join our workshop “How to Make Pathways Work for You.” You’ll learn how to turn Pathways projects into real growth in your personal life and career. \nRegister at  How to Make Pathways Work for You \nAfter you register\, you will receive the Zoom access link. Feel free to share the link with fellow Toastmasters who may also benefit from the session.
URL:https://d99tm.org/event/how-to-make-toastmasters-work-for-you/
CATEGORIES:District,Training
ATTACH;FMTTYPE=image/png:https://d99tm.org/wp-content/uploads/2026/02/Graphic-Mar-14-2026.png
END:VEVENT
BEGIN:VEVENT
DTSTART;TZID=America/Edmonton:20260314T120000
DTEND;TZID=America/Edmonton:20260314T150000
DTSTAMP:20260424T201559
CREATED:20260221T000250Z
LAST-MODIFIED:20260221T000250Z
UID:14846-1773489600-1773500400@d99tm.org
SUMMARY:Area A10 International Speech & Humorous Speech Contest
DESCRIPTION:Contact Stella at area10@d99tm.org
URL:https://d99tm.org/event/area-a10-international-speech-humorous-speech-contest/
LOCATION:Institute For The Advancement Of Aboriginal Women\, 10220 156 St NW #102\, Edmonton\, AB\, T5P 2R1\, Canada
CATEGORIES:Area,Contests,Contests
ATTACH;FMTTYPE=image/png:https://d99tm.org/wp-content/uploads/2025/12/Speech-Contest.png
END:VEVENT
END:VCALENDAR