BEGIN:VCALENDAR
VERSION:2.0
PRODID:-//District 99 Toastmasters - ECPv6.15.18//NONSGML v1.0//EN
CALSCALE:GREGORIAN
METHOD:PUBLISH
X-ORIGINAL-URL:https://d99tm.org
X-WR-CALDESC:Events for District 99 Toastmasters
REFRESH-INTERVAL;VALUE=DURATION:PT1H
X-Robots-Tag:noindex
X-PUBLISHED-TTL:PT1H
BEGIN:VTIMEZONE
TZID:America/Regina
BEGIN:STANDARD
TZOFFSETFROM:-0600
TZOFFSETTO:-0600
TZNAME:CST
DTSTART:20250101T000000
END:STANDARD
END:VTIMEZONE
BEGIN:VEVENT
DTSTART;TZID=America/Regina:20260415T190000
DTEND;TZID=America/Regina:20260415T190000
DTSTAMP:20260424T183255
CREATED:20260117T185526Z
LAST-MODIFIED:20260117T185526Z
UID:14687-1776279600-1776279600@d99tm.org
SUMMARY:Candidates Showcase - District 210
DESCRIPTION:Duration TBD
URL:https://d99tm.org/event/candidates-showcase-district-210/
CATEGORIES:District
END:VEVENT
END:VCALENDAR