BEGIN:VCALENDAR
VERSION:2.0
PRODID:-//District 99 Toastmasters - ECPv6.15.18//NONSGML v1.0//EN
CALSCALE:GREGORIAN
METHOD:PUBLISH
X-ORIGINAL-URL:https://d99tm.org
X-WR-CALDESC:Events for District 99 Toastmasters
REFRESH-INTERVAL;VALUE=DURATION:PT1H
X-Robots-Tag:noindex
X-PUBLISHED-TTL:PT1H
BEGIN:VTIMEZONE
TZID:Canada/Mountain
BEGIN:DAYLIGHT
TZOFFSETFROM:-0700
TZOFFSETTO:-0600
TZNAME:MDT
DTSTART:20250309T090000
END:DAYLIGHT
BEGIN:STANDARD
TZOFFSETFROM:-0600
TZOFFSETTO:-0700
TZNAME:MST
DTSTART:20251102T080000
END:STANDARD
BEGIN:DAYLIGHT
TZOFFSETFROM:-0700
TZOFFSETTO:-0600
TZNAME:MDT
DTSTART:20260308T090000
END:DAYLIGHT
BEGIN:STANDARD
TZOFFSETFROM:-0600
TZOFFSETTO:-0700
TZNAME:MST
DTSTART:20261101T080000
END:STANDARD
BEGIN:DAYLIGHT
TZOFFSETFROM:-0700
TZOFFSETTO:-0600
TZNAME:MDT
DTSTART:20270314T090000
END:DAYLIGHT
BEGIN:STANDARD
TZOFFSETFROM:-0600
TZOFFSETTO:-0700
TZNAME:MST
DTSTART:20271107T080000
END:STANDARD
END:VTIMEZONE
BEGIN:VTIMEZONE
TZID:America/Edmonton
BEGIN:DAYLIGHT
TZOFFSETFROM:-0700
TZOFFSETTO:-0600
TZNAME:MDT
DTSTART:20250309T090000
END:DAYLIGHT
BEGIN:STANDARD
TZOFFSETFROM:-0600
TZOFFSETTO:-0700
TZNAME:MST
DTSTART:20251102T080000
END:STANDARD
BEGIN:DAYLIGHT
TZOFFSETFROM:-0700
TZOFFSETTO:-0600
TZNAME:MDT
DTSTART:20260308T090000
END:DAYLIGHT
BEGIN:STANDARD
TZOFFSETFROM:-0600
TZOFFSETTO:-0700
TZNAME:MST
DTSTART:20261101T080000
END:STANDARD
BEGIN:DAYLIGHT
TZOFFSETFROM:-0700
TZOFFSETTO:-0600
TZNAME:MDT
DTSTART:20270314T090000
END:DAYLIGHT
BEGIN:STANDARD
TZOFFSETFROM:-0600
TZOFFSETTO:-0700
TZNAME:MST
DTSTART:20271107T080000
END:STANDARD
END:VTIMEZONE
BEGIN:VEVENT
DTSTART;TZID=Canada/Mountain:20260501T160000
DTEND;TZID=Canada/Mountain:20260503T140000
DTSTAMP:20260424T183148
CREATED:20250830T062821Z
LAST-MODIFIED:20260306T000529Z
UID:14063-1777651200-1777816800@d99tm.org
SUMMARY:District Conference
DESCRIPTION:Posted times are tentative. \n  \nEarly Bird rates applicable until February 17th. \nDownload the registration from and register today! \n D99 2026 Spring Conference Registration Form.pdf \nVisit the D99 Conference Page for the most up to date information on the conference!
URL:https://d99tm.org/event/district-99-2026-conference/
CATEGORIES:Conference,District
ATTACH;FMTTYPE=image/png:https://d99tm.org/wp-content/uploads/2026/03/Conference-Hero-On-Black.png
END:VEVENT
BEGIN:VEVENT
DTSTART;TZID=America/Edmonton:20260501T194500
DTEND;TZID=America/Edmonton:20260501T210000
DTSTAMP:20260424T183148
CREATED:20260331T043959Z
LAST-MODIFIED:20260407T221958Z
UID:14963-1777664700-1777669200@d99tm.org
SUMMARY:Cancelled: 2026 Comedy Night
DESCRIPTION:“An Engaging Evening of Comedy Featuring Our Finest Agents of Laughter.”\nYour mission: \n\nDeliver a 4–5 minute stand-up comedy routine that leaves the room laughing (this is stand-up\, not a humorous speech).\nNo prior experience as a comedian is necessary\nApply at d99tm.org by April 15th
URL:https://d99tm.org/event/2026-comedy-night/
LOCATION:Delta Hotel BY Marriott South\, 4404 Gateway Blvd NW\, Edmonton\, AB\, Canada
CATEGORIES:Conference,District,Special Event
ATTACH;FMTTYPE=image/jpeg:https://d99tm.org/wp-content/uploads/2026/03/Comedy-Night-1.jpg
END:VEVENT
END:VCALENDAR