BEGIN:VCALENDAR
VERSION:2.0
PRODID:-//District 99 Toastmasters - ECPv6.15.18//NONSGML v1.0//EN
CALSCALE:GREGORIAN
METHOD:PUBLISH
X-WR-CALNAME:District 99 Toastmasters
X-ORIGINAL-URL:https://d99tm.org
X-WR-CALDESC:Events for District 99 Toastmasters
REFRESH-INTERVAL;VALUE=DURATION:PT1H
X-Robots-Tag:noindex
X-PUBLISHED-TTL:PT1H
BEGIN:VTIMEZONE
TZID:America/Edmonton
BEGIN:DAYLIGHT
TZOFFSETFROM:-0700
TZOFFSETTO:-0600
TZNAME:MDT
DTSTART:20240310T090000
END:DAYLIGHT
BEGIN:STANDARD
TZOFFSETFROM:-0600
TZOFFSETTO:-0700
TZNAME:MST
DTSTART:20241103T080000
END:STANDARD
BEGIN:DAYLIGHT
TZOFFSETFROM:-0700
TZOFFSETTO:-0600
TZNAME:MDT
DTSTART:20250309T090000
END:DAYLIGHT
BEGIN:STANDARD
TZOFFSETFROM:-0600
TZOFFSETTO:-0700
TZNAME:MST
DTSTART:20251102T080000
END:STANDARD
BEGIN:DAYLIGHT
TZOFFSETFROM:-0700
TZOFFSETTO:-0600
TZNAME:MDT
DTSTART:20260308T090000
END:DAYLIGHT
BEGIN:STANDARD
TZOFFSETFROM:-0600
TZOFFSETTO:-0700
TZNAME:MST
DTSTART:20261101T080000
END:STANDARD
END:VTIMEZONE
BEGIN:VEVENT
DTSTART;TZID=America/Edmonton:20250715T183000
DTEND;TZID=America/Edmonton:20250715T213000
DTSTAMP:20260421T080039
CREATED:20250707T024109Z
LAST-MODIFIED:20250707T040702Z
UID:13660-1752604200-1752615000@d99tm.org
SUMMARY:Round 1 Club Officer Training
DESCRIPTION:Club Officer Training for Round 1 \nThis training will cover all officer positions and be online. \nRegister Now!
URL:https://d99tm.org/event/round-1-club-officer-training/
LOCATION:Online
CATEGORIES:Club Officer Training,Division
ATTACH;FMTTYPE=image/png:https://d99tm.org/wp-content/uploads/2023/06/COT-202324.png
ORGANIZER;CN="Education Development Team":MAILTO:training@d99tm.org
END:VEVENT
BEGIN:VEVENT
DTSTART;TZID=America/Edmonton:20250728T183000
DTEND;TZID=America/Edmonton:20250728T213000
DTSTAMP:20260421T080039
CREATED:20250707T024218Z
LAST-MODIFIED:20250727T002811Z
UID:13662-1753727400-1753738200@d99tm.org
SUMMARY:Round 1 Club Officer Training
DESCRIPTION:Club Officer Training for Round 1 \nThis training will cover all officer positions and be online. \nRegister Now!
URL:https://d99tm.org/event/round-1-club-officer-training-2/
LOCATION:Online
CATEGORIES:Club Officer Training,District,Division
ATTACH;FMTTYPE=image/png:https://d99tm.org/wp-content/uploads/2023/06/COT-202324.png
ORGANIZER;CN="Education Development Team":MAILTO:training@d99tm.org
END:VEVENT
END:VCALENDAR