BEGIN:VCALENDAR
VERSION:2.0
PRODID:-//District 99 Toastmasters - ECPv6.15.18//NONSGML v1.0//EN
CALSCALE:GREGORIAN
METHOD:PUBLISH
X-ORIGINAL-URL:https://d99tm.org
X-WR-CALDESC:Events for District 99 Toastmasters
REFRESH-INTERVAL;VALUE=DURATION:PT1H
X-Robots-Tag:noindex
X-PUBLISHED-TTL:PT1H
BEGIN:VTIMEZONE
TZID:America/Chicago
BEGIN:DAYLIGHT
TZOFFSETFROM:-0600
TZOFFSETTO:-0500
TZNAME:CDT
DTSTART:20240310T080000
END:DAYLIGHT
BEGIN:STANDARD
TZOFFSETFROM:-0500
TZOFFSETTO:-0600
TZNAME:CST
DTSTART:20241103T070000
END:STANDARD
BEGIN:DAYLIGHT
TZOFFSETFROM:-0600
TZOFFSETTO:-0500
TZNAME:CDT
DTSTART:20250309T080000
END:DAYLIGHT
BEGIN:STANDARD
TZOFFSETFROM:-0500
TZOFFSETTO:-0600
TZNAME:CST
DTSTART:20251102T070000
END:STANDARD
BEGIN:DAYLIGHT
TZOFFSETFROM:-0600
TZOFFSETTO:-0500
TZNAME:CDT
DTSTART:20260308T080000
END:DAYLIGHT
BEGIN:STANDARD
TZOFFSETFROM:-0500
TZOFFSETTO:-0600
TZNAME:CST
DTSTART:20261101T070000
END:STANDARD
END:VTIMEZONE
BEGIN:VEVENT
DTSTART;TZID=America/Chicago:20250621T090000
DTEND;TZID=America/Chicago:20250621T130000
DTSTAMP:20260421T113233
CREATED:20250615T175841Z
LAST-MODIFIED:20250615T180313Z
UID:13615-1750496400-1750510800@d99tm.org
SUMMARY:Club Officer Training (COT) - Round 1 (Hosted by Division E)
DESCRIPTION:Club Officer Training (COT) for all executive roles \nJoin us to connect and learn together. This is an in-person training session. \nSaturday\, June 21\, 2025\n9:00am – 1:00pm CST\nSCIC\, 3830 Thatcher Avenue Saskatoon\, SK S7R 1A5 \nHosted by: Division E \nTo register and for more information\, contact: Don Zurakowski (dz@gotgeek.ca)
URL:https://d99tm.org/event/club-officer-training-cot-round-1-hosted-by-division-e/
LOCATION:SCIC Building\,\, 3830 Thatcher Avenue\, Saskatoon\, AB\, S7R 1A5\, Canada
CATEGORIES:Club Officer Training,Division
ATTACH;FMTTYPE=image/png:https://d99tm.org/wp-content/uploads/2025/06/2025-06-21-Club-Officer-Training.png
END:VEVENT
END:VCALENDAR