BEGIN:VCALENDAR
VERSION:2.0
PRODID:-//District 99 Toastmasters - ECPv6.15.18//NONSGML v1.0//EN
CALSCALE:GREGORIAN
METHOD:PUBLISH
X-ORIGINAL-URL:https://d99tm.org
X-WR-CALDESC:Events for District 99 Toastmasters
REFRESH-INTERVAL;VALUE=DURATION:PT1H
X-Robots-Tag:noindex
X-PUBLISHED-TTL:PT1H
BEGIN:VTIMEZONE
TZID:Canada/Mountain
BEGIN:DAYLIGHT
TZOFFSETFROM:-0700
TZOFFSETTO:-0600
TZNAME:MDT
DTSTART:20240310T090000
END:DAYLIGHT
BEGIN:STANDARD
TZOFFSETFROM:-0600
TZOFFSETTO:-0700
TZNAME:MST
DTSTART:20241103T080000
END:STANDARD
BEGIN:DAYLIGHT
TZOFFSETFROM:-0700
TZOFFSETTO:-0600
TZNAME:MDT
DTSTART:20250309T090000
END:DAYLIGHT
BEGIN:STANDARD
TZOFFSETFROM:-0600
TZOFFSETTO:-0700
TZNAME:MST
DTSTART:20251102T080000
END:STANDARD
BEGIN:DAYLIGHT
TZOFFSETFROM:-0700
TZOFFSETTO:-0600
TZNAME:MDT
DTSTART:20260308T090000
END:DAYLIGHT
BEGIN:STANDARD
TZOFFSETFROM:-0600
TZOFFSETTO:-0700
TZNAME:MST
DTSTART:20261101T080000
END:STANDARD
END:VTIMEZONE
BEGIN:VEVENT
DTSTART;TZID=Canada/Mountain:20250707T210000
DTEND;TZID=Canada/Mountain:20250707T220000
DTSTAMP:20260421T033130
CREATED:20250830T062849Z
LAST-MODIFIED:20250830T062849Z
UID:14081-1751922000-1751925600@d99tm.org
SUMMARY:Trio Meeting
DESCRIPTION:
URL:https://d99tm.org/event/trio-meeting/
CATEGORIES:Meeting
END:VEVENT
BEGIN:VEVENT
DTSTART;TZID=Canada/Mountain:20250713T120000
DTEND;TZID=Canada/Mountain:20250713T130000
DTSTAMP:20260421T033130
CREATED:20250830T062838Z
LAST-MODIFIED:20250830T062838Z
UID:14074-1752408000-1752411600@d99tm.org
SUMMARY:Meeting with Conference Co-Chairs
DESCRIPTION:
URL:https://d99tm.org/event/meeting-with-conference-co-chairs/
CATEGORIES:Meeting
END:VEVENT
BEGIN:VEVENT
DTSTART;TZID=Canada/Mountain:20250714T210000
DTEND;TZID=Canada/Mountain:20250714T220000
DTSTAMP:20260421T033130
CREATED:20250830T062857Z
LAST-MODIFIED:20250830T062857Z
UID:14082-1752526800-1752530400@d99tm.org
SUMMARY:Trio Meeting
DESCRIPTION:
URL:https://d99tm.org/event/trio-meeting-2/
CATEGORIES:Meeting
END:VEVENT
BEGIN:VEVENT
DTSTART;TZID=Canada/Mountain:20250721T180000
DTEND;TZID=Canada/Mountain:20250721T190000
DTSTAMP:20260421T033130
CREATED:20250830T062848Z
LAST-MODIFIED:20250830T062848Z
UID:14079-1753120800-1753124400@d99tm.org
SUMMARY:Region 3 Meeting\, with Dan Arbuckle
DESCRIPTION:
URL:https://d99tm.org/event/region-3-meeting-with-dan-arbuckle/
CATEGORIES:Meeting
END:VEVENT
BEGIN:VEVENT
DTSTART;TZID=Canada/Mountain:20250723T193000
DTEND;TZID=Canada/Mountain:20250723T203000
DTSTAMP:20260421T033130
CREATED:20250830T062838Z
LAST-MODIFIED:20250830T062838Z
UID:14075-1753299000-1753302600@d99tm.org
SUMMARY:Meeting with Conference Co-Chairs 7:30 PM
DESCRIPTION:
URL:https://d99tm.org/event/meeting-with-conference-co-chairs-730-pm/
CATEGORIES:Meeting
END:VEVENT
BEGIN:VEVENT
DTSTART;VALUE=DATE:20250727
DTEND;VALUE=DATE:20250728
DTSTAMP:20260421T033130
CREATED:20250830T063010Z
LAST-MODIFIED:20250830T063010Z
UID:14093-1753574400-1753660799@d99tm.org
SUMMARY:Trio Planning Retreat
DESCRIPTION:
URL:https://d99tm.org/event/trio-planning-retreat/
CATEGORIES:Meeting
END:VEVENT
END:VCALENDAR