BEGIN:VCALENDAR
VERSION:2.0
PRODID:-//District 99 Toastmasters - ECPv6.15.18//NONSGML v1.0//EN
CALSCALE:GREGORIAN
METHOD:PUBLISH
X-WR-CALNAME:District 99 Toastmasters
X-ORIGINAL-URL:https://d99tm.org
X-WR-CALDESC:Events for District 99 Toastmasters
REFRESH-INTERVAL;VALUE=DURATION:PT1H
X-Robots-Tag:noindex
X-PUBLISHED-TTL:PT1H
BEGIN:VTIMEZONE
TZID:Canada/Mountain
BEGIN:DAYLIGHT
TZOFFSETFROM:-0700
TZOFFSETTO:-0600
TZNAME:MDT
DTSTART:20240310T090000
END:DAYLIGHT
BEGIN:STANDARD
TZOFFSETFROM:-0600
TZOFFSETTO:-0700
TZNAME:MST
DTSTART:20241103T080000
END:STANDARD
BEGIN:DAYLIGHT
TZOFFSETFROM:-0700
TZOFFSETTO:-0600
TZNAME:MDT
DTSTART:20250309T090000
END:DAYLIGHT
BEGIN:STANDARD
TZOFFSETFROM:-0600
TZOFFSETTO:-0700
TZNAME:MST
DTSTART:20251102T080000
END:STANDARD
BEGIN:DAYLIGHT
TZOFFSETFROM:-0700
TZOFFSETTO:-0600
TZNAME:MDT
DTSTART:20260308T090000
END:DAYLIGHT
BEGIN:STANDARD
TZOFFSETFROM:-0600
TZOFFSETTO:-0700
TZNAME:MST
DTSTART:20261101T080000
END:STANDARD
END:VTIMEZONE
BEGIN:VTIMEZONE
TZID:America/Edmonton
BEGIN:DAYLIGHT
TZOFFSETFROM:-0700
TZOFFSETTO:-0600
TZNAME:MDT
DTSTART:20240310T090000
END:DAYLIGHT
BEGIN:STANDARD
TZOFFSETFROM:-0600
TZOFFSETTO:-0700
TZNAME:MST
DTSTART:20241103T080000
END:STANDARD
BEGIN:DAYLIGHT
TZOFFSETFROM:-0700
TZOFFSETTO:-0600
TZNAME:MDT
DTSTART:20250309T090000
END:DAYLIGHT
BEGIN:STANDARD
TZOFFSETFROM:-0600
TZOFFSETTO:-0700
TZNAME:MST
DTSTART:20251102T080000
END:STANDARD
BEGIN:DAYLIGHT
TZOFFSETFROM:-0700
TZOFFSETTO:-0600
TZNAME:MDT
DTSTART:20260308T090000
END:DAYLIGHT
BEGIN:STANDARD
TZOFFSETFROM:-0600
TZOFFSETTO:-0700
TZNAME:MST
DTSTART:20261101T080000
END:STANDARD
END:VTIMEZONE
BEGIN:VEVENT
DTSTART;TZID=Canada/Mountain:20250914T170000
DTEND;TZID=Canada/Mountain:20250914T210000
DTSTAMP:20260421T051932
CREATED:20250904T042622Z
LAST-MODIFIED:20250916T034754Z
UID:14183-1757869200-1757883600@d99tm.org
SUMMARY:District Officer Training Part 1 of 3
DESCRIPTION:This is District Officer Training part 1 of 3. \nAgendas and other meeting assets can be found here:  2025 Fall District Officer Training \nZoom link to join: https://us02web.zoom.us/j/81978651521?pwd=alqbsMmi3q6ayYxnh7fW5qooUFNcbR.1 \nSeptember District Officer Training is scheduled in 3 parts (detailed agenda to be published soon): \n\nPart 1 – September 14th – Online –> Agenda include Area Expectations\, Club Visits\, Effective Division and Area Council Meetings.\nPart 2 – September 20th – Online –> This will be an expansion of the first agenda\, looking at specific areas and the relative challenges in each area.\nPart 3 – September 21 – In-person –> We will induct the new district officers\, present pins and ribbons\, have a dinner and the Hybrid DEC meeting. venue to be confirmed.\n\nDistrict Officer Training (DOT)DOT equips District leaders—Area Directors\, Division Directors\, and District officers—with the tools\, knowledge\, and support they need to serve clubs effectively. Training covers leadership skills\, role responsibilities\, and District priorities\, helping leaders succeed in their roles and strengthen clubs across District 99.
URL:https://d99tm.org/event/district-officer-training-part-1-of-3/
CATEGORIES:District,Training
ATTACH;FMTTYPE=image/png:https://d99tm.org/wp-content/uploads/2025/08/District-Events.png
END:VEVENT
BEGIN:VEVENT
DTSTART;TZID=Canada/Mountain:20250920T083000
DTEND;TZID=Canada/Mountain:20250920T123000
DTSTAMP:20260421T051932
CREATED:20250904T042501Z
LAST-MODIFIED:20250916T034050Z
UID:14181-1758357000-1758371400@d99tm.org
SUMMARY:District Officer Training Part 2 of 3
DESCRIPTION:This is District Officer Training part 2 of 3. \nAgendas and other meeting assets can be found here:  2025 Fall District Officer Training \nZoom link to join: https://us02web.zoom.us/j/81978651521?pwd=alqbsMmi3q6ayYxnh7fW5qooUFNcbR.1 \nSeptember District Officer Training is scheduled in 3 parts (detailed agenda to be published soon): \n\nPart 1 – September 14th – Online –> Agenda include Area Expectations\, Club Visits\, Effective Division and Area Council Meetings.\nPart 2 – September 20th – Online –> This will be an expansion of the first agenda\, looking at specific areas and the relative challenges in each area.\nPart 3 – September 21 – In-person –> We will induct the new district officers\, present pins and ribbons\, have a dinner and the Hybrid DEC meeting. venue to be confirmed.\n\nDistrict Officer Training (DOT)DOT equips District leaders—Area Directors\, Division Directors\, and District officers—with the tools\, knowledge\, and support they need to serve clubs effectively. Training covers leadership skills\, role responsibilities\, and District priorities\, helping leaders succeed in their roles and strengthen clubs across District 99.
URL:https://d99tm.org/event/district-officer-training-part-2-of-3/
CATEGORIES:District,Training
ATTACH;FMTTYPE=image/png:https://d99tm.org/wp-content/uploads/2025/08/District-Events.png
END:VEVENT
BEGIN:VEVENT
DTSTART;TZID=Canada/Mountain:20250921T163000
DTEND;TZID=Canada/Mountain:20250921T163000
DTSTAMP:20260421T051932
CREATED:20250904T042050Z
LAST-MODIFIED:20250916T041903Z
UID:14178-1758472200-1758472200@d99tm.org
SUMMARY:District Officer Training Part 3 of 3 (IN-PERSON)\, Includes Installation Of Officers
DESCRIPTION:This is District Officer Training part 3 of 3. THIS PART OF THE TRAINING IS IN-PERSON ONLY. \nThe Venue:\n 2008 Leger Rd NW\, Edmonton\, AB T6R 0C1 \n\nAgendas and other meeting assets can be found here: 2025 Fall District Officer Training \nSeptember District Officer Training is scheduled in 3 parts (detailed agenda to be published soon): \n\nPart 1 – September 14th – Online –> Agenda include Area Expectations\, Club Visits\, Effective Division and Area Council Meetings.\nPart 2 – September 20th – Online –> This will be an expansion of the first agenda\, looking at specific areas and the relative challenges in each area.\nPart 3 – September 21 – In-person –> We will induct the new district officers\, present pins and ribbons\, have a dinner and the Hybrid DEC meeting. venue to be confirmed.\n\nDistrict Officer Training (DOT)DOT equips District leaders—Area Directors\, Division Directors\, and District officers—with the tools\, knowledge\, and support they need to serve clubs effectively. Training covers leadership skills\, role responsibilities\, and District priorities\, helping leaders succeed in their roles and strengthen clubs across District 99. \nDistrict Executive Committee (DEC) MeetingThe DEC is comprised of the District Trio\, Division Directors\, Area Directors\, Public Relations Manager\, Administration Manager\, Finance Manager\, and the Immediate Past District Director. This group conducts the business of the District between council meetings\, ensuring progress toward the District Mission and Success Plan. \nDistrict CouncilThe District Council is the District’s governing body\, comprising the DEC\, all Club Presidents\, and Vice Presidents-Education. Council members vote on key decisions such as the District budget\, officer elections\, and major policy items that guide the District’s direction.
URL:https://d99tm.org/event/district-officer-training-part-3-of-3-installation-of-officers-and-dec-meeting-in-person/
CATEGORIES:District,Training
ATTACH;FMTTYPE=image/png:https://d99tm.org/wp-content/uploads/2025/08/District-Events.png
END:VEVENT
BEGIN:VEVENT
DTSTART;TZID=Canada/Mountain:20250921T190000
DTEND;TZID=Canada/Mountain:20250921T203000
DTSTAMP:20260421T051932
CREATED:20250830T062821Z
LAST-MODIFIED:20250927T033436Z
UID:14062-1758481200-1758486600@d99tm.org
SUMMARY:District Executive Committee (DEC) Meeting - Hybrid
DESCRIPTION:This event will be held in conjunction with the Part 3 of 3 District Officer Training. The District Officer Training will be in-person only\, starting earlier in the day. \nThe Venue: 2008 Leger Rd NW\, Edmonton\, AB T6R 0C1 \nOr on TEAMS: \nMicrosoft Teams Need help?\nJoin the meeting now\nMeeting ID: 257 409 437 679 7\nPasscode: Bs6RY2eh\nThe Teams meeting will open about 6:45.\nThe agenda\, reports and supporting documents are accessible here:\n👉 2025-09-21 DEC Meeting👈\nDistrict Officer Training (DOT)DOT equips District leaders—Area Directors\, Division Directors\, and District officers—with the tools\, knowledge\, and support they need to serve clubs effectively. Training covers leadership skills\, role responsibilities\, and District priorities\, helping leaders succeed in their roles and strengthen clubs across District 99. \nDistrict Executive Committee (DEC) MeetingThe DEC is comprised of the District Trio\, Division Directors\, Area Directors\, Public Relations Manager\, Administration Manager\, Finance Manager\, and the Immediate Past District Director. This group conducts the business of the District between council meetings\, ensuring progress toward the District Mission and Success Plan. \nDistrict CouncilThe District Council is the District’s governing body\, comprising the DEC\, all Club Presidents\, and Vice Presidents-Education. Council members vote on key decisions such as the District budget\, officer elections\, and major policy items that guide the District’s direction.
URL:https://d99tm.org/event/dec-meeting-hybrid/
CATEGORIES:DEC,District,Training
ATTACH;FMTTYPE=image/png:https://d99tm.org/wp-content/uploads/2025/08/D99-District-Exec-Committee.png
END:VEVENT
BEGIN:VEVENT
DTSTART;TZID=America/Edmonton:20250927T100000
DTEND;TZID=America/Edmonton:20250927T120000
DTSTAMP:20260421T051932
CREATED:20250922T211415Z
LAST-MODIFIED:20250922T211415Z
UID:14236-1758967200-1758974400@d99tm.org
SUMMARY:Get Help Uploading Your Club Success Plan
DESCRIPTION:Need help getting your Club Success Plan uploaded to Club Central? Well here is an opportunity to get some help. Chief Digital Officer\, Glenn Walker DTM will be available Saturday September 27th\, 2025 from 10:00 AM to Noon to help you with any questions. \nClick the button to go to the registration page. \nRegister Here
URL:https://d99tm.org/event/get-help-uploading-your-club-success-plan/
LOCATION:Online
CATEGORIES:District,Training
ATTACH;FMTTYPE=image/jpeg:https://d99tm.org/wp-content/uploads/2025/09/Artificial-Intelligence-Robot-FTR.jpg
ORGANIZER;CN="Chief Digital Officer":MAILTO:support@d99tm.org
END:VEVENT
BEGIN:VEVENT
DTSTART;TZID=America/Edmonton:20250929T181500
DTEND;TZID=America/Edmonton:20250929T203000
DTSTAMP:20260421T051932
CREATED:20250715T225105Z
LAST-MODIFIED:20250910T200107Z
UID:13681-1759169700-1759177800@d99tm.org
SUMMARY:Club Coach Boot Camp
DESCRIPTION:Become a Club Coach – Lead the Way! \nDistrict 99 Toastmasters invites you to the Club Coach Boot Camp\nDate: Monday\, September 29\, 2025\nTime: 6:15 PM –8:30 PM (MDT)\nOnline via Zoom (link provided after registration) \nReady to grow as a leader while helping a struggling club thrive?\nParticipate in this dynamic\, hands-on Boot Camp to discover how YOU can become a Club Coach and make a lasting impact on others and yourself. \nWhether you’re curious\, considering coaching in the future\, or committed\, this session will equip you with: \n\nThe why behind Club Coaching: case studies\, real impact\nThe how-to: tools\, strategies\, and support available\nThe next steps: how to get started right away\n\nCoaching a Toastmasters club is one of the most powerful ways to: \n\nStrengthen your communication\, leadership\, and mentoring skills\nEarn credit toward your Distinguished Toastmaster (DTM)\nInspire lasting change within your District\n\nQuestions? Contact Lynell Bird\, Club Growth Director \nRegister Now to reserve your spot and be the spark that helps a club shine again!
URL:https://d99tm.org/event/become-a-club-coach-lead-the-way/
LOCATION:Online
CATEGORIES:Club Growth Corner,District,Training
ATTACH;FMTTYPE=image/png:https://d99tm.org/wp-content/uploads/2025/07/Become-a-Club-Coach-1.png
ORGANIZER;CN="Club Growth Director":MAILTO:cgd@d99tm.org
END:VEVENT
END:VCALENDAR