BEGIN:VCALENDAR
VERSION:2.0
PRODID:-//District 99 Toastmasters - ECPv6.15.18//NONSGML v1.0//EN
CALSCALE:GREGORIAN
METHOD:PUBLISH
X-ORIGINAL-URL:https://d99tm.org
X-WR-CALDESC:Events for District 99 Toastmasters
REFRESH-INTERVAL;VALUE=DURATION:PT1H
X-Robots-Tag:noindex
X-PUBLISHED-TTL:PT1H
BEGIN:VTIMEZONE
TZID:America/Edmonton
BEGIN:DAYLIGHT
TZOFFSETFROM:-0700
TZOFFSETTO:-0600
TZNAME:MDT
DTSTART:20240310T090000
END:DAYLIGHT
BEGIN:STANDARD
TZOFFSETFROM:-0600
TZOFFSETTO:-0700
TZNAME:MST
DTSTART:20241103T080000
END:STANDARD
BEGIN:DAYLIGHT
TZOFFSETFROM:-0700
TZOFFSETTO:-0600
TZNAME:MDT
DTSTART:20250309T090000
END:DAYLIGHT
BEGIN:STANDARD
TZOFFSETFROM:-0600
TZOFFSETTO:-0700
TZNAME:MST
DTSTART:20251102T080000
END:STANDARD
BEGIN:DAYLIGHT
TZOFFSETFROM:-0700
TZOFFSETTO:-0600
TZNAME:MDT
DTSTART:20260308T090000
END:DAYLIGHT
BEGIN:STANDARD
TZOFFSETFROM:-0600
TZOFFSETTO:-0700
TZNAME:MST
DTSTART:20261101T080000
END:STANDARD
END:VTIMEZONE
BEGIN:VEVENT
DTSTART;TZID=America/Edmonton:20250927T100000
DTEND;TZID=America/Edmonton:20250927T120000
DTSTAMP:20260421T064818
CREATED:20250922T211415Z
LAST-MODIFIED:20250922T211415Z
UID:14236-1758967200-1758974400@d99tm.org
SUMMARY:Get Help Uploading Your Club Success Plan
DESCRIPTION:Need help getting your Club Success Plan uploaded to Club Central? Well here is an opportunity to get some help. Chief Digital Officer\, Glenn Walker DTM will be available Saturday September 27th\, 2025 from 10:00 AM to Noon to help you with any questions. \nClick the button to go to the registration page. \nRegister Here
URL:https://d99tm.org/event/get-help-uploading-your-club-success-plan/
LOCATION:Online
CATEGORIES:District,Training
ATTACH;FMTTYPE=image/jpeg:https://d99tm.org/wp-content/uploads/2025/09/Artificial-Intelligence-Robot-FTR.jpg
ORGANIZER;CN="Chief Digital Officer":MAILTO:support@d99tm.org
END:VEVENT
END:VCALENDAR