BEGIN:VCALENDAR
VERSION:2.0
PRODID:-//District 99 Toastmasters - ECPv6.15.18//NONSGML v1.0//EN
CALSCALE:GREGORIAN
METHOD:PUBLISH
X-ORIGINAL-URL:https://d99tm.org
X-WR-CALDESC:Events for District 99 Toastmasters
REFRESH-INTERVAL;VALUE=DURATION:PT1H
X-Robots-Tag:noindex
X-PUBLISHED-TTL:PT1H
BEGIN:VTIMEZONE
TZID:America/Edmonton
BEGIN:DAYLIGHT
TZOFFSETFROM:-0700
TZOFFSETTO:-0600
TZNAME:MDT
DTSTART:20240310T090000
END:DAYLIGHT
BEGIN:STANDARD
TZOFFSETFROM:-0600
TZOFFSETTO:-0700
TZNAME:MST
DTSTART:20241103T080000
END:STANDARD
BEGIN:DAYLIGHT
TZOFFSETFROM:-0700
TZOFFSETTO:-0600
TZNAME:MDT
DTSTART:20250309T090000
END:DAYLIGHT
BEGIN:STANDARD
TZOFFSETFROM:-0600
TZOFFSETTO:-0700
TZNAME:MST
DTSTART:20251102T080000
END:STANDARD
BEGIN:DAYLIGHT
TZOFFSETFROM:-0700
TZOFFSETTO:-0600
TZNAME:MDT
DTSTART:20260308T090000
END:DAYLIGHT
BEGIN:STANDARD
TZOFFSETFROM:-0600
TZOFFSETTO:-0700
TZNAME:MST
DTSTART:20261101T080000
END:STANDARD
END:VTIMEZONE
BEGIN:VEVENT
DTSTART;TZID=America/Edmonton:20250513T184500
DTEND;TZID=America/Edmonton:20250513T204500
DTSTAMP:20260421T101504
CREATED:20250504T144943Z
LAST-MODIFIED:20250504T144943Z
UID:13455-1747161900-1747169100@d99tm.org
SUMMARY:Riverbend Toastmasters 20 Year Anniversary Celebration
DESCRIPTION:Riverbend Toastmasters 20th Anniversary Celebration! \nYou’re invited to a very special evening as we celebrate 20 incredible years of communication\, leadership\, and personal growth at Riverbend Toastmasters! \nDate: Tuesday\, May 13\, 2025\nTime: 6:45PM – 8:45PM\nLocation: Boston Pizza\, 4804 Calgary Trail\, Edmonton\, Alberta\nCost: Self pay for your meal and beverages \nEnjoy dynamic Table Topics\, and our special guest speaker\, Collin Greene! \nJoin us and connect with fellow Toastmasters\, celebrate our journey\, and be inspired! \nRSVP by May 10 \nFor more information or to RSVP\, contact:\nCraig Brenzan (craigbrenzan@gmail.com)
URL:https://d99tm.org/event/riverbend-toastmasters-20-year-anniversary-celebration/
LOCATION:Boston Pizza\, 4804 Calgary Trail\, Edmonton\, Alberta\, Canada
CATEGORIES:Club,Featured,Special Event
ATTACH;FMTTYPE=image/jpeg:https://d99tm.org/wp-content/uploads/2025/05/Happy-Anniversary-2.jpg
END:VEVENT
END:VCALENDAR