BEGIN:VCALENDAR
VERSION:2.0
PRODID:-//District 99 Toastmasters - ECPv6.15.18//NONSGML v1.0//EN
CALSCALE:GREGORIAN
METHOD:PUBLISH
X-WR-CALNAME:District 99 Toastmasters
X-ORIGINAL-URL:https://d99tm.org
X-WR-CALDESC:Events for District 99 Toastmasters
REFRESH-INTERVAL;VALUE=DURATION:PT1H
X-Robots-Tag:noindex
X-PUBLISHED-TTL:PT1H
BEGIN:VTIMEZONE
TZID:America/Edmonton
BEGIN:DAYLIGHT
TZOFFSETFROM:-0700
TZOFFSETTO:-0600
TZNAME:MDT
DTSTART:20250309T090000
END:DAYLIGHT
BEGIN:STANDARD
TZOFFSETFROM:-0600
TZOFFSETTO:-0700
TZNAME:MST
DTSTART:20251102T080000
END:STANDARD
BEGIN:DAYLIGHT
TZOFFSETFROM:-0700
TZOFFSETTO:-0600
TZNAME:MDT
DTSTART:20260308T090000
END:DAYLIGHT
BEGIN:STANDARD
TZOFFSETFROM:-0600
TZOFFSETTO:-0700
TZNAME:MST
DTSTART:20261101T080000
END:STANDARD
BEGIN:DAYLIGHT
TZOFFSETFROM:-0700
TZOFFSETTO:-0600
TZNAME:MDT
DTSTART:20270314T090000
END:DAYLIGHT
BEGIN:STANDARD
TZOFFSETFROM:-0600
TZOFFSETTO:-0700
TZNAME:MST
DTSTART:20271107T080000
END:STANDARD
END:VTIMEZONE
BEGIN:VTIMEZONE
TZID:America/Regina
BEGIN:STANDARD
TZOFFSETFROM:-0600
TZOFFSETTO:-0600
TZNAME:CST
DTSTART:20250101T000000
END:STANDARD
END:VTIMEZONE
BEGIN:VTIMEZONE
TZID:Canada/Mountain
BEGIN:DAYLIGHT
TZOFFSETFROM:-0700
TZOFFSETTO:-0600
TZNAME:MDT
DTSTART:20250309T090000
END:DAYLIGHT
BEGIN:STANDARD
TZOFFSETFROM:-0600
TZOFFSETTO:-0700
TZNAME:MST
DTSTART:20251102T080000
END:STANDARD
BEGIN:DAYLIGHT
TZOFFSETFROM:-0700
TZOFFSETTO:-0600
TZNAME:MDT
DTSTART:20260308T090000
END:DAYLIGHT
BEGIN:STANDARD
TZOFFSETFROM:-0600
TZOFFSETTO:-0700
TZNAME:MST
DTSTART:20261101T080000
END:STANDARD
BEGIN:DAYLIGHT
TZOFFSETFROM:-0700
TZOFFSETTO:-0600
TZNAME:MDT
DTSTART:20270314T090000
END:DAYLIGHT
BEGIN:STANDARD
TZOFFSETFROM:-0600
TZOFFSETTO:-0700
TZNAME:MST
DTSTART:20271107T080000
END:STANDARD
END:VTIMEZONE
BEGIN:VEVENT
DTSTART;TZID=America/Edmonton:20260414T184500
DTEND;TZID=America/Edmonton:20260414T201500
DTSTAMP:20260424T201900
CREATED:20260407T230539Z
LAST-MODIFIED:20260408T000155Z
UID:15037-1776192300-1776197700@d99tm.org
SUMMARY:OPENHOUSE LEDUC Toastmasters Club
DESCRIPTION:FONG CHUA comes to Leduc as a motivational guest speaker presenting “Toastmasters\, It Keeps On Giving”. \nParticipate in table topics\, get some feedback\, hear a member give a prepared speech\, and much more.  \nJoin us for an open house where you can connect with Toastmasters\, enjoy refreshments\, and enter for exciting door prizes. \n  \nHosted by Leduc Blackgold Toastmasters. \nFor more information and to receive connection instructions: leducblackgoldtoastmasters@gmail.com. 
URL:https://d99tm.org/event/openhouse-leduc-toastmasters-club/
LOCATION:St David’s United Church\, 4614 48 Street\, Leduc\, AB\, T9E 5X7\, Canada
CATEGORIES:Club,Open House
ATTACH;FMTTYPE=image/jpeg:https://d99tm.org/wp-content/uploads/2026/04/Club-Open-House.jpg
END:VEVENT
BEGIN:VEVENT
DTSTART;TZID=America/Regina:20260415T190000
DTEND;TZID=America/Regina:20260415T190000
DTSTAMP:20260424T201900
CREATED:20260117T185526Z
LAST-MODIFIED:20260117T185526Z
UID:14687-1776279600-1776279600@d99tm.org
SUMMARY:Candidates Showcase - District 210
DESCRIPTION:Duration TBD
URL:https://d99tm.org/event/candidates-showcase-district-210/
CATEGORIES:District
END:VEVENT
BEGIN:VEVENT
DTSTART;TZID=America/Edmonton:20260418T090000
DTEND;TZID=America/Edmonton:20260418T123000
DTSTAMP:20260424T201900
CREATED:20260129T205811Z
LAST-MODIFIED:20260328T042413Z
UID:14696-1776502800-1776515400@d99tm.org
SUMMARY:Speech Contest Division B International and Humorous
DESCRIPTION:Doors open at 8:00 am.\nContestant registration 8:30 am.\nContestant\, Judge\, Timer\, and Ballot Counter Briefings at 8:40 am.\nInternational Contest starts at 9:00 am followed by the Humorous Contest.\nFinish around 12:30 pm.\n\n\nContest Chair: Bob Challborn. Email: divisionb@d99tm.org
URL:https://d99tm.org/event/speech-contest-division-b/
LOCATION:Southminister-Steinhauer United Church\, 10740 19 Ave NW\, Edmonton\, AB\, T6J 6W9\, Canada
CATEGORIES:Contests,Contests,Division
ATTACH;FMTTYPE=image/png:https://d99tm.org/wp-content/uploads/2025/12/Speech-Contest.png
END:VEVENT
BEGIN:VEVENT
DTSTART;TZID=America/Edmonton:20260418T130000
DTEND;TZID=America/Edmonton:20260418T163000
DTSTAMP:20260424T201900
CREATED:20260125T191135Z
LAST-MODIFIED:20260413T014906Z
UID:14691-1776517200-1776529800@d99tm.org
SUMMARY:Speech Contest Division D
DESCRIPTION:Contact Wes divisiond@d99tm.org
URL:https://d99tm.org/event/speech-contest-division-d/
LOCATION:Chrysalis Foundation\, 13325 St Albert Trail NW\, Edmonton\, AB\, T5L 4R3\, Canada
CATEGORIES:Contests,Contests,Division
ATTACH;FMTTYPE=image/png:https://d99tm.org/wp-content/uploads/2025/12/Speech-Contest.png
END:VEVENT
BEGIN:VEVENT
DTSTART;TZID=America/Edmonton:20260418T130000
DTEND;TZID=America/Edmonton:20260418T163000
DTSTAMP:20260424T201900
CREATED:20260129T205705Z
LAST-MODIFIED:20260328T235338Z
UID:14694-1776517200-1776529800@d99tm.org
SUMMARY:Speech Contest Division A International and Humorous
DESCRIPTION:Doors open at 12:30 pm.\nContestant registration 12:30 pm.\nContest starts at 1:00 pm\n\nContest Chair: Craig Brenzan. Email: divisiona@d99tm.org
URL:https://d99tm.org/event/speech-contest-division-a/
LOCATION:Southminister-Steinhauer United Church\, 10740 19 Ave NW\, Edmonton\, AB\, T6J 6W9\, Canada
CATEGORIES:Contests,Contests,Division
ATTACH;FMTTYPE=image/png:https://d99tm.org/wp-content/uploads/2025/12/Speech-Contest.png
END:VEVENT
BEGIN:VEVENT
DTSTART;TZID=America/Edmonton:20260419T190000
DTEND;TZID=America/Edmonton:20260419T203000
DTSTAMP:20260424T201900
CREATED:20260416T192320Z
LAST-MODIFIED:20260416T192320Z
UID:15096-1776625200-1776630600@d99tm.org
SUMMARY:Club Coach Corner
DESCRIPTION:Club Growth Director\, Lynell Bird\, and Club Coach Team Lead\, Rebecca Cuthbertson Hulst\, invite all Club Coaches\, prospective Club Coaches\, and anyone interested in learning more about Club Coaching for training and fun. \nJoin us at the Club Coach Corner and continue Onward and Upward with your clubs to support them in membership building and offering excellence to their members. \n7:00pm – 8:30pm MDT/CST \nRegister to receive the Zoom link. \nREGISTER HERE\n  \nFor more information\, contact cgd@d99tm.org
URL:https://d99tm.org/event/club-coach-corner-2/
LOCATION:Zoom
CATEGORIES:Club Coaches
ATTACH;FMTTYPE=image/jpeg:https://d99tm.org/wp-content/uploads/2026/04/2026-04-19-Club-Coach-Corner-Poster-b.jpg
END:VEVENT
BEGIN:VEVENT
DTSTART;TZID=Canada/Mountain:20260419T220000
DTEND;TZID=Canada/Mountain:20260419T220000
DTSTAMP:20260424T201900
CREATED:20250830T062837Z
LAST-MODIFIED:20260129T205327Z
UID:14073-1776636000-1776636000@d99tm.org
SUMMARY:💥Updated: Last Day for Division Speech Contests
DESCRIPTION:
URL:https://d99tm.org/event/last-day-for-division-speech-contests/
CATEGORIES:Contests,Contests,Deadline,Division
ATTACH;FMTTYPE=image/png:https://d99tm.org/wp-content/uploads/2025/08/District-Holidays-Meetings-1.png
END:VEVENT
BEGIN:VEVENT
DTSTART;TZID=America/Regina:20260422T190000
DTEND;TZID=America/Regina:20260422T190000
DTSTAMP:20260424T201900
CREATED:20260117T185400Z
LAST-MODIFIED:20260422T230616Z
UID:14685-1776884400-1776884400@d99tm.org
SUMMARY:Candidates Showcase - District 208
DESCRIPTION:Important information about the new District 208 is now available on the temporary District 208 website: d208tm.org \n\nDistrict Leadership Report – showing the report of the nominated candidates\nCandidate Biographies – as supplied by the candidates\nDistrict Alignment Report – showing the proposed alignment of clubs into Areas and Divisions\n\n\nDistrict 208 Candidate Showcase\nThe Candidate Showcase for District 208 is Wednesday April 22\, at 7:00 pm (Mountain Time). This event is open to all members and will last about one hour. This is a great opportunity to get to know your candidates. \nRegister here to recieve your personal Zoom link to attend the Candidate Showcase for District 208:\nhttps://us06web.zoom.us/meeting/register/9aXTnMYOR7-Z13fLm1BjhQ \n\nDistrict 208 Business Meeting\nMay 9\, 1:00 pm (Mountain Time). This meeting is open to all members. Elections will take place and the alignment will be presented. \nRegister here to recieve your personal Zoom link to attend the District 208 Business Meeting:\nhttps://us06web.zoom.us/meeting/register/0wtxNWA4R9ijLIYvQ9hIKg \nVoting credentials for D208 Council members (Club Presidents\, Club Vice Presidents Education\, and DEC members) will be distributed separately. \n  \nBackground\nAs of July 1\, 2026\, clubs in District 99 will realign into new Districts. All clubs based in Alberta will become part of the new District 208\, while all clubs based in Saskatchewan will become part of the new District 210. As a result\, there will be no District 99 elections in 2026. Instead\, separate elections will be held for District 208 and District 210. There will\, however\, be a final District 99 Council meeting on May 2\, 2026\, held during the District 99 Annual Conference taking place May 1 to 3\, 2026. \nIf you have any questions\, please contact Ken Tanner\, DTM\, D208 Transition Chair at kentann@telus.net.
URL:https://d99tm.org/event/candidates-showcase-district-208/
CATEGORIES:District
END:VEVENT
BEGIN:VEVENT
DTSTART;TZID=America/Edmonton:20260423T190000
DTEND;TZID=America/Edmonton:20260423T210000
DTSTAMP:20260424T201900
CREATED:20260405T182305Z
LAST-MODIFIED:20260415T230927Z
UID:15006-1776970800-1776978000@d99tm.org
SUMMARY:D99 Open House - Online Workshop
DESCRIPTION:Need more Members? Invite Guests. Grow Your Club with D99 Support.  \nAre you looking for an easy and effective way to grow your club’s membership? \nWhat if you could invite guests to a professionally hosted event\, designed to inspire them about Toastmasters\, and then welcome them into your club? \nGood news… you can!  \nDistrict 99 Toastmasters is hosting an online interactive Open House titled: “District 99 Toastmasters Online Workshop”. \nThis district-wide all-inclusive event is built to help your club attract\, engage\, and convert guests into members. \nWe’ve done the heavy lifting to offer this online Open House.  Your Mission is to invite as many guests as you can to attend. \nGuests register here:  d99tm.org/workshop  \nPromotion Toolkit \n\nWhy does this matter for your club?  \nThis is more than just an event.  It’s a membership-building opportunity. \nWhen your club grows\, you gain: \n\nFresh perspectives and new ideas\nIncreased energy and engagement\nMore members to take on meeting roles\nA stronger\, more dynamic club experience\n\nAnd the best part?  We’ll host the event.  You bring the guests. \nPromotion Toolkit \n\nWhy promote this event?  \nWe have a dedicated team ready to: \n\nWelcome and engage your guests\nShowcase the value of Toastmasters\nGuide them toward visiting your club\n\nNeed help growing your membership? \nReach out to your Area Director or contact CGD@d99tm.org for support. \nLet’s work together to bring new energy\, new voices\, and new members into your club. \nWe’re excited to welcome your guests and help your club grow! \n Promotion Toolkit \n\nHave questions about this event?  \nContact Club Growth Director\, Lynell Bird at CGD@d99tm.org \nWarm Regards\,\nLynell Bird\, DTM\nClub Growth Director (2025-2026)\nDistrict 99 Toastmasters\ncgd@d99tm.org \nLet’s work together to bring new energy\, new voices\, and new members into your club. \nWe’re excited to welcome your guests and help your club grow! \nPromotion Toolkit \n\n\n \n\n[Please refresh your browser to see updates] \nPromotion Toolkit \n\nGuests register here: d99tm.org/workshop\nLinkedIn promotion guide for members\nLinkedIn promotion guide for VP PR\nFacebook promotion guide for members\nFacebook promotion guide for VP PR\nWorkshop Poster\nAd For Print 3.5″x4.7″\n1080×1080 Communicate With Confidence PNG or Canva Design (You can customize) \n1080×1080 Communicate With Confidence Long PNG or Canva Design (You can customize)\nPromo Video Vertical\nAll Promotion Resource Files\nEventbrite Listing\nMeetup Listing 1 – Meetup Listing 2\n\n 
URL:https://d99tm.org/event/workshop/
LOCATION:Zoom
CATEGORIES:District,Open House
ATTACH;FMTTYPE=image/png:https://d99tm.org/wp-content/uploads/2026/04/Open-House-Hero.png
END:VEVENT
BEGIN:VEVENT
DTSTART;TZID=America/Edmonton:20260426T200000
DTEND;TZID=America/Edmonton:20260426T210000
DTSTAMP:20260424T201900
CREATED:20250826T020100Z
LAST-MODIFIED:20250826T020100Z
UID:13938-1777233600-1777237200@d99tm.org
SUMMARY:All Leaders Call (ALC)
DESCRIPTION:Members of District Executive Committee (DEC) are: District Director\, Program Quality Director\, Club Growth Director\, Public Relations Manager\, Administration Manager\, Finance Manager\, Division Directors\, Area Directors\, and the Immediate Past District Director. \nDEC Members and Invited Guests are encouraged to join us for our next “All Leaders Call” (ALC).  This is opportunity to learn about updates in our District\, share your updates\, and there will be a Q&A session. \nAll Leaders Call \nCommencing at 8:00 PM MDT/CST \nVirtual Meeting via Zoom \nAgenda and Zoom link are forthcoming. \nFor more information\, contact: am@d99tm.org
URL:https://d99tm.org/event/all-leaders-call-alc-3/
CATEGORIES:District,Meeting
ATTACH;FMTTYPE=image/png:https://d99tm.org/wp-content/uploads/2025/08/D99-All-Leaders-Call.png
END:VEVENT
BEGIN:VEVENT
DTSTART;TZID=Canada/Mountain:20260430T220000
DTEND;TZID=Canada/Mountain:20260430T220000
DTSTAMP:20260424T201900
CREATED:20250830T055201Z
LAST-MODIFIED:20250902T001448Z
UID:14047-1777586400-1777586400@d99tm.org
SUMMARY:Due:  Q3 P&L
DESCRIPTION:
URL:https://d99tm.org/event/due-q3-pl/
CATEGORIES:Deadline
ATTACH;FMTTYPE=image/png:https://d99tm.org/wp-content/uploads/2025/08/District-Holidays-Meetings-1.png
END:VEVENT
BEGIN:VEVENT
DTSTART;TZID=Canada/Mountain:20260501T160000
DTEND;TZID=Canada/Mountain:20260503T140000
DTSTAMP:20260424T201900
CREATED:20250830T062821Z
LAST-MODIFIED:20260306T000529Z
UID:14063-1777651200-1777816800@d99tm.org
SUMMARY:District Conference
DESCRIPTION:Posted times are tentative. \n  \nEarly Bird rates applicable until February 17th. \nDownload the registration from and register today! \n D99 2026 Spring Conference Registration Form.pdf \nVisit the D99 Conference Page for the most up to date information on the conference!
URL:https://d99tm.org/event/district-99-2026-conference/
CATEGORIES:Conference,District
ATTACH;FMTTYPE=image/png:https://d99tm.org/wp-content/uploads/2026/03/Conference-Hero-On-Black.png
END:VEVENT
BEGIN:VEVENT
DTSTART;TZID=America/Edmonton:20260501T194500
DTEND;TZID=America/Edmonton:20260501T210000
DTSTAMP:20260424T201900
CREATED:20260331T043959Z
LAST-MODIFIED:20260407T221958Z
UID:14963-1777664700-1777669200@d99tm.org
SUMMARY:Cancelled: 2026 Comedy Night
DESCRIPTION:“An Engaging Evening of Comedy Featuring Our Finest Agents of Laughter.”\nYour mission: \n\nDeliver a 4–5 minute stand-up comedy routine that leaves the room laughing (this is stand-up\, not a humorous speech).\nNo prior experience as a comedian is necessary\nApply at d99tm.org by April 15th
URL:https://d99tm.org/event/2026-comedy-night/
LOCATION:Delta Hotel BY Marriott South\, 4404 Gateway Blvd NW\, Edmonton\, AB\, Canada
CATEGORIES:Conference,District,Special Event
ATTACH;FMTTYPE=image/jpeg:https://d99tm.org/wp-content/uploads/2026/03/Comedy-Night-1.jpg
END:VEVENT
BEGIN:VEVENT
DTSTART;TZID=Canada/Mountain:20260502T100000
DTEND;TZID=Canada/Mountain:20260502T110000
DTSTAMP:20260424T201900
CREATED:20250830T062823Z
LAST-MODIFIED:20260423T050634Z
UID:14065-1777716000-1777719600@d99tm.org
SUMMARY:D99 District Council / Annual Business Meeting
DESCRIPTION:This meeting will be hybrid\, hosted at the District 99 Conference.
URL:https://d99tm.org/event/district-council-meeting-4/
CATEGORIES:Conference,District,Meeting
ATTACH;FMTTYPE=image/png:https://d99tm.org/wp-content/uploads/2025/08/District-Events-1.png
END:VEVENT
BEGIN:VEVENT
DTSTART;TZID=Canada/Mountain:20260509T090000
DTEND;TZID=Canada/Mountain:20260509T110000
DTSTAMP:20260424T201900
CREATED:20260106T204341Z
LAST-MODIFIED:20260423T050335Z
UID:14650-1778317200-1778324400@d99tm.org
SUMMARY:D210 District Council Meeting
DESCRIPTION:
URL:https://d99tm.org/event/d210-district-council-meeting/
CATEGORIES:District,Meeting
ATTACH;FMTTYPE=image/png:https://d99tm.org/wp-content/uploads/2025/08/District-Events-1.png
END:VEVENT
BEGIN:VEVENT
DTSTART;TZID=Canada/Mountain:20260509T130000
DTEND;TZID=Canada/Mountain:20260509T150000
DTSTAMP:20260424T201900
CREATED:20260106T204226Z
LAST-MODIFIED:20260423T050433Z
UID:14648-1778331600-1778338800@d99tm.org
SUMMARY:D208 District Council Meeting
DESCRIPTION:The District 208 Business meeting is May 9\, 1:00 pm (mountain time).  Open to all members\, here is the registration link for the District 208 Business Meeting where elections will take place and the alignment will be put forward.\n\n   https://us06web.zoom.us/meeting/register/0wtxNWA4R9ijLIYvQ9hIKg\n\nVoting credentials for D208 Council members (Club Presidents\, Club Vice Presidents Education and DEC members) will be distributed separately.
URL:https://d99tm.org/event/d208-district-council-meeting/
CATEGORIES:District,Meeting
ATTACH;FMTTYPE=image/png:https://d99tm.org/wp-content/uploads/2025/08/District-Events-1.png
END:VEVENT
BEGIN:VEVENT
DTSTART;TZID=Canada/Mountain:20260511T200000
DTEND;TZID=Canada/Mountain:20260511T210000
DTSTAMP:20260424T201900
CREATED:20250830T062955Z
LAST-MODIFIED:20250902T002714Z
UID:14090-1778529600-1778533200@d99tm.org
SUMMARY:Trio meeting with RA Dan Arbuckle
DESCRIPTION:Region Advisors are volunteer leaders appointed by Toastmasters International to support District Trios (District Director\, Program Quality Director\, and Club Growth Director). They provide coaching\, mentoring\, and strategic guidance to help District leaders succeed in membership growth\, club quality\, and leadership development. Region Advisors draw on their experience as past senior District officers to share best practices and help Districts achieve the District Mission. \nFor the 2025–2026 program year\, our Region 3 Advisor is Dan Arbuckle\, DTM. Dan is a seasoned leader from California who has served in numerous District and club roles\, bringing a wealth of experience in coaching leaders and supporting District success. You can learn more about him on the Toastmasters International website: Meet Dan Arbuckle.
URL:https://d99tm.org/event/trio-meeting-with-ra-dan-arbuckle-8/
CATEGORIES:Meeting
ATTACH;FMTTYPE=image/png:https://d99tm.org/wp-content/uploads/2025/08/District-Holidays-Meetings-2.png
END:VEVENT
BEGIN:VEVENT
DTSTART;TZID=America/Edmonton:20260513T193000
DTEND;TZID=America/Edmonton:20260513T203000
DTSTAMP:20260424T201900
CREATED:20251128T030519Z
LAST-MODIFIED:20251128T050455Z
UID:14513-1778700600-1778704200@d99tm.org
SUMMARY:All Things Pathways
DESCRIPTION:These Zoom sessions are for members to bring any questions they may have about Pathways and to get help if needed. \nRegistration is required. \nRegister Now!\nSessions are planned for: \nTuesday\, December 9\, 2025 7:30 – 8:30 PM MST\nWednesday\, January 14\, 2026 7:30 – 8:30 PM MST\nThursday\, February 12\, 2026 7:30 – 8:30 PM MST\nWednesday\, March 11\, 2026 7:30 – 8:30 PM MST\nTuesday\, April 7\, 2026 7:30 – 8:30 PM MST\nWednesday\, May 13\, 2026 7:30 – 8:30 PM MST
URL:https://d99tm.org/event/all-things-pathways-6/
CATEGORIES:District,Training
ATTACH;FMTTYPE=image/png:https://d99tm.org/wp-content/uploads/2025/11/All-Things-Pathways.png
END:VEVENT
BEGIN:VEVENT
DTSTART;VALUE=DATE:20260518
DTEND;VALUE=DATE:20260519
DTSTAMP:20260424T201900
CREATED:20250830T053156Z
LAST-MODIFIED:20250830T053156Z
UID:14015-1779062400-1779148799@d99tm.org
SUMMARY:Victoria Day
DESCRIPTION:
URL:https://d99tm.org/event/victoria-day/
CATEGORIES:Calendar
END:VEVENT
BEGIN:VEVENT
DTSTART;TZID=America/Edmonton:20260531T200000
DTEND;TZID=America/Edmonton:20260531T210000
DTSTAMP:20260424T201900
CREATED:20250826T020059Z
LAST-MODIFIED:20250826T020059Z
UID:13939-1780257600-1780261200@d99tm.org
SUMMARY:All Leaders Call (ALC)
DESCRIPTION:Members of District Executive Committee (DEC) are: District Director\, Program Quality Director\, Club Growth Director\, Public Relations Manager\, Administration Manager\, Finance Manager\, Division Directors\, Area Directors\, and the Immediate Past District Director. \nDEC Members and Invited Guests are encouraged to join us for our next “All Leaders Call” (ALC).  This is opportunity to learn about updates in our District\, share your updates\, and there will be a Q&A session. \nAll Leaders Call \nCommencing at 8:00 PM MDT/CST \nVirtual Meeting via Zoom \nAgenda and Zoom link are forthcoming. \nFor more information\, contact: am@d99tm.org
URL:https://d99tm.org/event/all-leaders-call-alc-2/
CATEGORIES:District,Meeting
ATTACH;FMTTYPE=image/png:https://d99tm.org/wp-content/uploads/2025/08/D99-All-Leaders-Call.png
END:VEVENT
BEGIN:VEVENT
DTSTART;TZID=Canada/Mountain:20260531T220000
DTEND;TZID=Canada/Mountain:20260531T220000
DTSTAMP:20260424T201900
CREATED:20250830T055209Z
LAST-MODIFIED:20250902T001509Z
UID:14049-1780264800-1780264800@d99tm.org
SUMMARY:Due:  R2 COT Reports
DESCRIPTION:
URL:https://d99tm.org/event/due-r2-cot-reports/
CATEGORIES:Deadline
ATTACH;FMTTYPE=image/png:https://d99tm.org/wp-content/uploads/2025/08/District-Holidays-Meetings-1.png
END:VEVENT
BEGIN:VEVENT
DTSTART;TZID=Canada/Mountain:20260531T220000
DTEND;TZID=Canada/Mountain:20260531T220000
DTSTAMP:20260424T201900
CREATED:20250830T055209Z
LAST-MODIFIED:20250902T001532Z
UID:14048-1780264800-1780264800@d99tm.org
SUMMARY:Due:  COT Training Results
DESCRIPTION:
URL:https://d99tm.org/event/due-cot-training-results/
CATEGORIES:Deadline
ATTACH;FMTTYPE=image/png:https://d99tm.org/wp-content/uploads/2025/08/District-Holidays-Meetings-1.png
END:VEVENT
BEGIN:VEVENT
DTSTART;TZID=Canada/Mountain:20260531T220000
DTEND;TZID=Canada/Mountain:20260531T220000
DTSTAMP:20260424T201900
CREATED:20250830T055210Z
LAST-MODIFIED:20250902T001554Z
UID:14050-1780264800-1780264800@d99tm.org
SUMMARY:Due:  R2 Club Visit Reports
DESCRIPTION:
URL:https://d99tm.org/event/due-r2-club-visit-reports/
CATEGORIES:Deadline
ATTACH;FMTTYPE=image/png:https://d99tm.org/wp-content/uploads/2025/08/District-Holidays-Meetings-1.png
END:VEVENT
BEGIN:VEVENT
DTSTART;TZID=Canada/Mountain:20260601T070000
DTEND;TZID=Canada/Mountain:20260601T070000
DTSTAMP:20260424T201900
CREATED:20250830T055210Z
LAST-MODIFIED:20250902T001333Z
UID:14052-1780297200-1780297200@d99tm.org
SUMMARY:Start:  Division and Area Director Training
DESCRIPTION:
URL:https://d99tm.org/event/start-division-and-area-director-training/
CATEGORIES:Deadline
ATTACH;FMTTYPE=image/png:https://d99tm.org/wp-content/uploads/2025/08/District-Holidays-Meetings-1.png
END:VEVENT
BEGIN:VEVENT
DTSTART;TZID=Canada/Mountain:20260601T070000
DTEND;TZID=Canada/Mountain:20260601T070000
DTSTAMP:20260424T201900
CREATED:20250830T055210Z
LAST-MODIFIED:20250902T001615Z
UID:14051-1780297200-1780297200@d99tm.org
SUMMARY:Start of Round 1 COT
DESCRIPTION:
URL:https://d99tm.org/event/start-of-round-1-cot/
CATEGORIES:Deadline
ATTACH;FMTTYPE=image/png:https://d99tm.org/wp-content/uploads/2025/08/District-Holidays-Meetings-1.png
END:VEVENT
BEGIN:VEVENT
DTSTART;TZID=Canada/Mountain:20260608T200000
DTEND;TZID=Canada/Mountain:20260608T210000
DTSTAMP:20260424T201900
CREATED:20250830T062955Z
LAST-MODIFIED:20250902T002753Z
UID:14091-1780948800-1780952400@d99tm.org
SUMMARY:Trio meeting with RA Dan Arbuckle
DESCRIPTION:Region Advisors are volunteer leaders appointed by Toastmasters International to support District Trios (District Director\, Program Quality Director\, and Club Growth Director). They provide coaching\, mentoring\, and strategic guidance to help District leaders succeed in membership growth\, club quality\, and leadership development. Region Advisors draw on their experience as past senior District officers to share best practices and help Districts achieve the District Mission. \nFor the 2025–2026 program year\, our Region 3 Advisor is Dan Arbuckle\, DTM. Dan is a seasoned leader from California who has served in numerous District and club roles\, bringing a wealth of experience in coaching leaders and supporting District success. You can learn more about him on the Toastmasters International website: Meet Dan Arbuckle.
URL:https://d99tm.org/event/trio-meeting-with-ra-dan-arbuckle-9/
CATEGORIES:Meeting
ATTACH;FMTTYPE=image/png:https://d99tm.org/wp-content/uploads/2025/08/District-Holidays-Meetings-2.png
END:VEVENT
BEGIN:VEVENT
DTSTART;VALUE=DATE:20260619
DTEND;VALUE=DATE:20260620
DTSTAMP:20260424T201900
CREATED:20250830T055219Z
LAST-MODIFIED:20250830T055219Z
UID:14053-1781827200-1781913599@d99tm.org
SUMMARY:Clubs submit OTY to Area Directors
DESCRIPTION:
URL:https://d99tm.org/event/clubs-submit-oty-to-area-directors/
CATEGORIES:Target
END:VEVENT
BEGIN:VEVENT
DTSTART;VALUE=DATE:20260621
DTEND;VALUE=DATE:20260622
DTSTAMP:20260424T201900
CREATED:20250830T055220Z
LAST-MODIFIED:20250830T055220Z
UID:14054-1782000000-1782086399@d99tm.org
SUMMARY:OTY selections at Area level
DESCRIPTION:
URL:https://d99tm.org/event/oty-selections-at-area-level/
CATEGORIES:Target
END:VEVENT
BEGIN:VEVENT
DTSTART;VALUE=DATE:20260624
DTEND;VALUE=DATE:20260625
DTSTAMP:20260424T201900
CREATED:20250830T055221Z
LAST-MODIFIED:20250830T055221Z
UID:14055-1782259200-1782345599@d99tm.org
SUMMARY:OTY selections at Division level
DESCRIPTION:
URL:https://d99tm.org/event/oty-selections-at-division-level/
CATEGORIES:Target
END:VEVENT
BEGIN:VEVENT
DTSTART;VALUE=DATE:20260627
DTEND;VALUE=DATE:20260628
DTSTAMP:20260424T201900
CREATED:20250830T055221Z
LAST-MODIFIED:20250830T055221Z
UID:14056-1782518400-1782604799@d99tm.org
SUMMARY:OTY selections at District level
DESCRIPTION:
URL:https://d99tm.org/event/oty-selections-at-district-level/
CATEGORIES:Target
END:VEVENT
END:VCALENDAR