BEGIN:VCALENDAR
VERSION:2.0
PRODID:-//District 99 Toastmasters - ECPv6.15.18//NONSGML v1.0//EN
CALSCALE:GREGORIAN
METHOD:PUBLISH
X-WR-CALNAME:District 99 Toastmasters
X-ORIGINAL-URL:https://d99tm.org
X-WR-CALDESC:Events for District 99 Toastmasters
REFRESH-INTERVAL;VALUE=DURATION:PT1H
X-Robots-Tag:noindex
X-PUBLISHED-TTL:PT1H
BEGIN:VTIMEZONE
TZID:Canada/Mountain
BEGIN:DAYLIGHT
TZOFFSETFROM:-0700
TZOFFSETTO:-0600
TZNAME:MDT
DTSTART:20250309T090000
END:DAYLIGHT
BEGIN:STANDARD
TZOFFSETFROM:-0600
TZOFFSETTO:-0700
TZNAME:MST
DTSTART:20251102T080000
END:STANDARD
BEGIN:DAYLIGHT
TZOFFSETFROM:-0700
TZOFFSETTO:-0600
TZNAME:MDT
DTSTART:20260308T090000
END:DAYLIGHT
BEGIN:STANDARD
TZOFFSETFROM:-0600
TZOFFSETTO:-0700
TZNAME:MST
DTSTART:20261101T080000
END:STANDARD
BEGIN:DAYLIGHT
TZOFFSETFROM:-0700
TZOFFSETTO:-0600
TZNAME:MDT
DTSTART:20270314T090000
END:DAYLIGHT
BEGIN:STANDARD
TZOFFSETFROM:-0600
TZOFFSETTO:-0700
TZNAME:MST
DTSTART:20271107T080000
END:STANDARD
END:VTIMEZONE
BEGIN:VTIMEZONE
TZID:America/Edmonton
BEGIN:DAYLIGHT
TZOFFSETFROM:-0700
TZOFFSETTO:-0600
TZNAME:MDT
DTSTART:20250309T090000
END:DAYLIGHT
BEGIN:STANDARD
TZOFFSETFROM:-0600
TZOFFSETTO:-0700
TZNAME:MST
DTSTART:20251102T080000
END:STANDARD
BEGIN:DAYLIGHT
TZOFFSETFROM:-0700
TZOFFSETTO:-0600
TZNAME:MDT
DTSTART:20260308T090000
END:DAYLIGHT
BEGIN:STANDARD
TZOFFSETFROM:-0600
TZOFFSETTO:-0700
TZNAME:MST
DTSTART:20261101T080000
END:STANDARD
BEGIN:DAYLIGHT
TZOFFSETFROM:-0700
TZOFFSETTO:-0600
TZNAME:MDT
DTSTART:20270314T090000
END:DAYLIGHT
BEGIN:STANDARD
TZOFFSETFROM:-0600
TZOFFSETTO:-0700
TZNAME:MST
DTSTART:20271107T080000
END:STANDARD
END:VTIMEZONE
BEGIN:VEVENT
DTSTART;VALUE=DATE:20260101
DTEND;VALUE=DATE:20260102
DTSTAMP:20260424T214721
CREATED:20250830T053151Z
LAST-MODIFIED:20250902T001627Z
UID:14011-1767225600-1767311999@d99tm.org
SUMMARY:New Years' Day
DESCRIPTION:
URL:https://d99tm.org/event/new-years-day/
CATEGORIES:Calendar
ATTACH;FMTTYPE=image/png:https://d99tm.org/wp-content/uploads/2025/08/District-Holidays-Meetings-7.png
END:VEVENT
BEGIN:VEVENT
DTSTART;TZID=Canada/Mountain:20260101T220000
DTEND;TZID=Canada/Mountain:20260101T220000
DTSTAMP:20260424T214721
CREATED:20250830T055153Z
LAST-MODIFIED:20251111T162321Z
UID:14040-1767304800-1767304800@d99tm.org
SUMMARY:D208 and D210 Due Date for Alignment Committee Formation
DESCRIPTION:District 208 Leadership Chair: Richard Mattis (Strathcona County\, AB)\nDistrict 208 Alignment Committee Chair: Glenn Walker (Edmonton\, AB)\nDistrict 208 Transition Committee Chair: Ken Tanner (Edmonton\, AB) \nDistrict 210 Leadership Chair: Catherine Sekundiak (Regina\, SK)\nDistrict 210 Alignment Committee Chair: Michele Blumhagen (North Dakota)\nDistrict 210 Transition Committee Chair: Laverne Wojciechoeski (Winnipeg\, MB)
URL:https://d99tm.org/event/due-alignment-committee-formation/
CATEGORIES:Deadline
ATTACH;FMTTYPE=image/png:https://d99tm.org/wp-content/uploads/2025/08/District-Holidays-Meetings-1.png
END:VEVENT
BEGIN:VEVENT
DTSTART;TZID=America/Edmonton:20260106T190000
DTEND;TZID=America/Edmonton:20260106T210000
DTSTAMP:20260424T214721
CREATED:20251217T201758Z
LAST-MODIFIED:20251217T205621Z
UID:14613-1767726000-1767733200@d99tm.org
SUMMARY:Bowmen Toastmasters Open House
DESCRIPTION:Have you made new goals for the New Year? Do they involve public speaking or leadership in your job\, your community\, your social circle? Come to our Open House and find out how Toastmasters can help you develop the skills you need. \n  \nLocation:  \nStrathcona County Community Centre – Meeting Room 3  \n2001 Sherwood Drive\, Sherwood Park \nContact Email: bowmen.toastmasters2161@gmail.com
URL:https://d99tm.org/event/bowmen-toastmasters-open-house/
LOCATION:Strathcona County Community Centre\, Meeting Room 3\, 2001 Sherwood Drive\, Sherwood Park\, AB\, Canada
CATEGORIES:Club,Open House
ATTACH;FMTTYPE=image/png:https://d99tm.org/wp-content/uploads/2024/04/OPEN-HOUSE.png
END:VEVENT
BEGIN:VEVENT
DTSTART;TZID=America/Edmonton:20260107T190000
DTEND;TZID=America/Edmonton:20260107T210000
DTSTAMP:20260424T214721
CREATED:20260104T161732Z
LAST-MODIFIED:20260104T161732Z
UID:14645-1767812400-1767819600@d99tm.org
SUMMARY:Aimcrier Toastmasters Open House
DESCRIPTION:Start your year off right. Keep your resolutions and meet your public speaking and leadership goals at Aimcrier Toastmasters Club! \n  \nLocation:  \nSt. Albert Catholic High School\, Library \n33 Malmo Avenue\, St. Albert \nContact Email: aimcrier.tm.vppr@gmail.com
URL:https://d99tm.org/event/aimcrier-toastmasters-open-house-2/
LOCATION:St. Albert Catholic High School\, 33 Malmo Drive​\, St. Albert\, Alberta\, Canada
CATEGORIES:Club,Open House
ATTACH;FMTTYPE=image/png:https://d99tm.org/wp-content/uploads/2024/04/OPEN-HOUSE.png
ORGANIZER;CN="Aimcrier Toastmasters Club":MAILTO:aimcrier.tm.vppr@gmail.com
END:VEVENT
BEGIN:VEVENT
DTSTART;TZID=Canada/Mountain:20260112T200000
DTEND;TZID=Canada/Mountain:20260112T210000
DTSTAMP:20260424T214721
CREATED:20250830T062859Z
LAST-MODIFIED:20250902T001806Z
UID:14086-1768248000-1768251600@d99tm.org
SUMMARY:Trio meeting with RA Dan Arbuckle
DESCRIPTION:Region Advisors are volunteer leaders appointed by Toastmasters International to support District Trios (District Director\, Program Quality Director\, and Club Growth Director). They provide coaching\, mentoring\, and strategic guidance to help District leaders succeed in membership growth\, club quality\, and leadership development. Region Advisors draw on their experience as past senior District officers to share best practices and help Districts achieve the District Mission. \nFor the 2025–2026 program year\, our Region 3 Advisor is Dan Arbuckle\, DTM. Dan is a seasoned leader from California who has served in numerous District and club roles\, bringing a wealth of experience in coaching leaders and supporting District success. You can learn more about him on the Toastmasters International website: Meet Dan Arbuckle
URL:https://d99tm.org/event/trio-meeting-with-ra-dan-arbuckle-4/
CATEGORIES:Meeting
ATTACH;FMTTYPE=image/png:https://d99tm.org/wp-content/uploads/2025/08/District-Holidays-Meetings-2.png
END:VEVENT
BEGIN:VEVENT
DTSTART;TZID=America/Edmonton:20260113T180000
DTEND;TZID=America/Edmonton:20260113T210000
DTSTAMP:20260424T214721
CREATED:20251203T031213Z
LAST-MODIFIED:20251203T031213Z
UID:14576-1768327200-1768338000@d99tm.org
SUMMARY:Round 2 Club Officer Training
DESCRIPTION:Register Now!\nReady to take your club to the next level? Round 2 of Club Officer Training is here!\nRegister for a session here.\n \nClub Officer Training (COT) provides Presidents\, VPEs\, VPPRs\, and all club leaders with the tools\, tips\, and connections necessary to thrive in their roles. This session builds on Round 1 with fresh insights\, practical strategies\, and shared experiences from leaders across District 99. \n✅ Learn best practices for your role\n✅ Connect with fellow club officers\n✅ Strengthen your club’s path to Distinguished \nRemember: for your club to earn Distinguished credit\, at least four officers must be trained in each round!
URL:https://d99tm.org/event/round-2-club-officer-training-5/
LOCATION:Online
CATEGORIES:Club Officer Training,Division
ATTACH;FMTTYPE=image/png:https://d99tm.org/wp-content/uploads/2025/10/Club-Officer-Training-Feature.png
END:VEVENT
BEGIN:VEVENT
DTSTART;TZID=America/Edmonton:20260114T193000
DTEND;TZID=America/Edmonton:20260114T203000
DTSTAMP:20260424T214721
CREATED:20251128T030221Z
LAST-MODIFIED:20251128T050405Z
UID:14505-1768419000-1768422600@d99tm.org
SUMMARY:All Things Pathways
DESCRIPTION:These Zoom sessions are for members to bring any questions they may have about Pathways and to get help if needed. \nRegistration is required. \nRegister Now!\nSessions are planned for: \nTuesday\, December 9\, 2025 7:30 – 8:30 PM MST\nWednesday\, January 14\, 2026 7:30 – 8:30 PM MST\nThursday\, February 12\, 2026 7:30 – 8:30 PM MST\nWednesday\, March 11\, 2026 7:30 – 8:30 PM MST\nTuesday\, April 7\, 2026 7:30 – 8:30 PM MST\nWednesday\, May 13\, 2026 7:30 – 8:30 PM MST
URL:https://d99tm.org/event/all-things-pathways-2/
CATEGORIES:District,Training
ATTACH;FMTTYPE=image/png:https://d99tm.org/wp-content/uploads/2025/11/All-Things-Pathways.png
END:VEVENT
BEGIN:VEVENT
DTSTART;VALUE=DATE:20260115
DTEND;VALUE=DATE:20260116
DTSTAMP:20260424T214721
CREATED:20250830T062848Z
LAST-MODIFIED:20251111T162345Z
UID:14078-1768435200-1768521599@d99tm.org
SUMMARY:D208 and D210 Publish Call for Candidate Declarations
DESCRIPTION:District 208 Leadership Chair: Richard Mattis (Strathcona County\, AB)\nDistrict 208 Alignment Committee Chair: Glenn Walker (Edmonton\, AB)\nDistrict 208 Transition Committee Chair: Ken Tanner (Edmonton\, AB) \nDistrict 210 Leadership Chair: Catherine Sekundiak (Regina\, SK)\nDistrict 210 Alignment Committee Chair: Michele Blumhagen (North Dakota)\nDistrict 210 Transition Committee Chair: Laverne Wojciechoeski (Winnipeg\, MB)
URL:https://d99tm.org/event/publish-call-for-candidate-declarations/
CATEGORIES:Target
ATTACH;FMTTYPE=image/png:https://d99tm.org/wp-content/uploads/2025/08/Club-Officer-Training-Presentation-3.png
END:VEVENT
BEGIN:VEVENT
DTSTART;TZID=America/Edmonton:20260117T090000
DTEND;TZID=America/Edmonton:20260117T123000
DTSTAMP:20260424T214721
CREATED:20251203T022523Z
LAST-MODIFIED:20251203T030207Z
UID:14571-1768640400-1768653000@d99tm.org
SUMMARY:Judges Training
DESCRIPTION:Learn the ins and outs to being a judge at a speech contest. \nLearn what the judges are looking for so you can be a better speaker. \nRegister Now
URL:https://d99tm.org/event/judges-training/
CATEGORIES:District,Training
ATTACH;FMTTYPE=image/png:https://d99tm.org/wp-content/uploads/2025/12/Judges-Training.png
END:VEVENT
BEGIN:VEVENT
DTSTART;TZID=America/Edmonton:20260122T180000
DTEND;TZID=America/Edmonton:20260122T210000
DTSTAMP:20260424T214721
CREATED:20251203T031309Z
LAST-MODIFIED:20251203T031309Z
UID:14578-1769104800-1769115600@d99tm.org
SUMMARY:Round 2 Club Officer Training
DESCRIPTION:Register Now!\nReady to take your club to the next level? Round 2 of Club Officer Training is here!\nRegister for a session here.\n \nClub Officer Training (COT) provides Presidents\, VPEs\, VPPRs\, and all club leaders with the tools\, tips\, and connections necessary to thrive in their roles. This session builds on Round 1 with fresh insights\, practical strategies\, and shared experiences from leaders across District 99. \n✅ Learn best practices for your role\n✅ Connect with fellow club officers\n✅ Strengthen your club’s path to Distinguished \nRemember: for your club to earn Distinguished credit\, at least four officers must be trained in each round!
URL:https://d99tm.org/event/round-2-club-officer-training-6/
LOCATION:Online
CATEGORIES:Club Officer Training,Division
ATTACH;FMTTYPE=image/png:https://d99tm.org/wp-content/uploads/2025/10/Club-Officer-Training-Feature.png
END:VEVENT
BEGIN:VEVENT
DTSTART;TZID=America/Edmonton:20260125T190000
DTEND;TZID=America/Edmonton:20260125T210000
DTSTAMP:20260424T214721
CREATED:20250826T020101Z
LAST-MODIFIED:20260117T183655Z
UID:13935-1769367600-1769374800@d99tm.org
SUMMARY:All Leaders Call (ALC)
DESCRIPTION:(The time has been extended to 2 hours to accommodate the combined mid-year training.) \n  \nMembers of District Executive Committee (DEC) are: District Director\, Program Quality Director\, Club Growth Director\, Public Relations Manager\, Administration Manager\, Finance Manager\, Division Directors\, Area Directors\, and the Immediate Past District Director. \nDEC Members and Invited Guests are encouraged to join us for our next “All Leaders Call” (ALC).  This is an opportunity to learn about updates in our District\, share your updates\, and there will be a Q&A session. \nAll Leaders Call \nCommencing at 7:00 PM MST/ 8:00 PM CST \nVirtual Meeting via Zoom \nAgenda and Zoom link are forthcoming. \nFor more information\, contact: am@d99tm.org
URL:https://d99tm.org/event/all-leaders-call-alc-6/
CATEGORIES:District,Meeting
ATTACH;FMTTYPE=image/png:https://d99tm.org/wp-content/uploads/2025/08/D99-All-Leaders-Call.png
END:VEVENT
BEGIN:VEVENT
DTSTART;TZID=Canada/Mountain:20260125T190000
DTEND;TZID=Canada/Mountain:20260125T210000
DTSTAMP:20260424T214721
CREATED:20250830T062839Z
LAST-MODIFIED:20260117T183306Z
UID:14076-1769367600-1769374800@d99tm.org
SUMMARY:Mid Year Training (Date Changed)
DESCRIPTION:This was originally scheduled for January 19th. It has been pushed to be combined with the ALC on January 25th.
URL:https://d99tm.org/event/mid-year-training/
CATEGORIES:District,Training
ATTACH;FMTTYPE=image/png:https://d99tm.org/wp-content/uploads/2025/08/District-Events.png
END:VEVENT
BEGIN:VEVENT
DTSTART;TZID=America/Edmonton:20260129T113000
DTEND;TZID=America/Edmonton:20260129T133000
DTSTAMP:20260424T214721
CREATED:20251103T174753Z
LAST-MODIFIED:20251103T174753Z
UID:14421-1769686200-1769693400@d99tm.org
SUMMARY:Paragon Toastmasters Club 40th Anniversary
DESCRIPTION:Join us in honouring 40 years of leadership\, fellowship and community impact!Since its charter in 1986\, the Paragon Toastmasters Club has been a beacon of communication and leadership excellence — helping countless individuals find their voice and build their confidence. Now\, in 2026\, we invite members\, alumni\, guests and the wider District 99 community to celebrate this remarkable milestone. \nThis special anniversary meeting will include: \n\nA warm welcome and recognition of past and present members\nReflections on four decades of achievement – and a look ahead as we build for the next forty years\nA seated luncheon in-person (network\, reconnect\, and toast the occasion)\nA hybrid option\, so remote attendees can join the celebration live\nA festive atmosphere where we honour the legacy of this club and inspire new beginnings\n\nWhether you’ve been part of Paragon for years — or are simply curious about how Toastmasters helps transform communication and leadership — this is an event you won’t want to miss. \nRegistration is required to ensure an accurate headcount for lunch and to receive the virtual access link. Kindly RSVP by Thursday\, January 15\, 2026. \nWe look forward to seeing you on January 29th to raise a toast to the past\, present and future of Paragon Toastmasters!
URL:https://d99tm.org/event/paragon-toastmasters-club-40th-anniversary/
LOCATION:10035 105 Street\, 10035 105 Street NW\, 3rd Floor Conference Room\, Edmonton\, Alberta\, T5J 2V6\, Canada
ATTACH;FMTTYPE=image/png:https://d99tm.org/wp-content/uploads/2025/11/40th-Anniversary-Celebration-Banner-Toastmasters-3.png
ORGANIZER;CN="Paragon Toastmasters Club":MAILTO:Paragontm6097@gmail.com
END:VEVENT
END:VCALENDAR