BEGIN:VCALENDAR
VERSION:2.0
PRODID:-//District 99 Toastmasters - ECPv6.15.18//NONSGML v1.0//EN
CALSCALE:GREGORIAN
METHOD:PUBLISH
X-ORIGINAL-URL:https://d99tm.org
X-WR-CALDESC:Events for District 99 Toastmasters
REFRESH-INTERVAL;VALUE=DURATION:PT1H
X-Robots-Tag:noindex
X-PUBLISHED-TTL:PT1H
BEGIN:VTIMEZONE
TZID:Canada/Mountain
BEGIN:DAYLIGHT
TZOFFSETFROM:-0700
TZOFFSETTO:-0600
TZNAME:MDT
DTSTART:20250309T090000
END:DAYLIGHT
BEGIN:STANDARD
TZOFFSETFROM:-0600
TZOFFSETTO:-0700
TZNAME:MST
DTSTART:20251102T080000
END:STANDARD
BEGIN:DAYLIGHT
TZOFFSETFROM:-0700
TZOFFSETTO:-0600
TZNAME:MDT
DTSTART:20260308T090000
END:DAYLIGHT
BEGIN:STANDARD
TZOFFSETFROM:-0600
TZOFFSETTO:-0700
TZNAME:MST
DTSTART:20261101T080000
END:STANDARD
BEGIN:DAYLIGHT
TZOFFSETFROM:-0700
TZOFFSETTO:-0600
TZNAME:MDT
DTSTART:20270314T090000
END:DAYLIGHT
BEGIN:STANDARD
TZOFFSETFROM:-0600
TZOFFSETTO:-0700
TZNAME:MST
DTSTART:20271107T080000
END:STANDARD
END:VTIMEZONE
BEGIN:VTIMEZONE
TZID:America/Edmonton
BEGIN:DAYLIGHT
TZOFFSETFROM:-0700
TZOFFSETTO:-0600
TZNAME:MDT
DTSTART:20250309T090000
END:DAYLIGHT
BEGIN:STANDARD
TZOFFSETFROM:-0600
TZOFFSETTO:-0700
TZNAME:MST
DTSTART:20251102T080000
END:STANDARD
BEGIN:DAYLIGHT
TZOFFSETFROM:-0700
TZOFFSETTO:-0600
TZNAME:MDT
DTSTART:20260308T090000
END:DAYLIGHT
BEGIN:STANDARD
TZOFFSETFROM:-0600
TZOFFSETTO:-0700
TZNAME:MST
DTSTART:20261101T080000
END:STANDARD
BEGIN:DAYLIGHT
TZOFFSETFROM:-0700
TZOFFSETTO:-0600
TZNAME:MDT
DTSTART:20270314T090000
END:DAYLIGHT
BEGIN:STANDARD
TZOFFSETFROM:-0600
TZOFFSETTO:-0700
TZNAME:MST
DTSTART:20271107T080000
END:STANDARD
END:VTIMEZONE
BEGIN:VEVENT
DTSTART;TZID=Canada/Mountain:20260201T220000
DTEND;TZID=Canada/Mountain:20260201T220000
DTSTAMP:20260424T201807
CREATED:20250830T055154Z
LAST-MODIFIED:20250902T001328Z
UID:14041-1769983200-1769983200@d99tm.org
SUMMARY:Due:  Audit documentation to Audit Committee
DESCRIPTION:
URL:https://d99tm.org/event/due-audit-documentation-to-audic-committee/
CATEGORIES:Deadline
ATTACH;FMTTYPE=image/png:https://d99tm.org/wp-content/uploads/2025/08/District-Holidays-Meetings-1.png
END:VEVENT
BEGIN:VEVENT
DTSTART;TZID=America/Edmonton:20260207T090000
DTEND;TZID=America/Edmonton:20260207T120000
DTSTAMP:20260424T201807
CREATED:20260114T211132Z
LAST-MODIFIED:20260114T211132Z
UID:14672-1770454800-1770465600@d99tm.org
SUMMARY:Round 2 Club Officer Training
DESCRIPTION:Register Now!\nReady to take your club to the next level? Round 2 of Club Officer Training is here!\nRegister for a session here.\n \nClub Officer Training (COT) provides Presidents\, VPEs\, VPPRs\, and all club leaders with the tools\, tips\, and connections necessary to thrive in their roles. This session builds on Round 1 with fresh insights\, practical strategies\, and shared experiences from leaders across District 99. \n✅ Learn best practices for your role\n✅ Connect with fellow club officers\n✅ Strengthen your club’s path to Distinguished \nRemember: for your club to earn Distinguished credit\, at least four officers must be trained in each round!
URL:https://d99tm.org/event/round-2-club-officer-training-7/
LOCATION:Online
CATEGORIES:Club Officer Training,Division
ATTACH;FMTTYPE=image/png:https://d99tm.org/wp-content/uploads/2025/10/Club-Officer-Training-Feature.png
END:VEVENT
BEGIN:VEVENT
DTSTART;TZID=Canada/Mountain:20260209T200000
DTEND;TZID=Canada/Mountain:20260209T210000
DTSTAMP:20260424T201807
CREATED:20250830T062953Z
LAST-MODIFIED:20250902T002056Z
UID:14087-1770667200-1770670800@d99tm.org
SUMMARY:Trio meeting with RA Dan Arbuckle
DESCRIPTION:Region Advisors are volunteer leaders appointed by Toastmasters International to support District Trios (District Director\, Program Quality Director\, and Club Growth Director). They provide coaching\, mentoring\, and strategic guidance to help District leaders succeed in membership growth\, club quality\, and leadership development. Region Advisors draw on their experience as past senior District officers to share best practices and help Districts achieve the District Mission. \nFor the 2025–2026 program year\, our Region 3 Advisor is Dan Arbuckle\, DTM. Dan is a seasoned leader from California who has served in numerous District and club roles\, bringing a wealth of experience in coaching leaders and supporting District success. You can learn more about him on the Toastmasters International website: Meet Dan Arbuckle.
URL:https://d99tm.org/event/trio-meeting-with-ra-dan-arbuckle-5/
CATEGORIES:Meeting
ATTACH;FMTTYPE=image/png:https://d99tm.org/wp-content/uploads/2025/08/District-Holidays-Meetings-2.png
END:VEVENT
BEGIN:VEVENT
DTSTART;TZID=America/Edmonton:20260210T181500
DTEND;TZID=America/Edmonton:20260210T203000
DTSTAMP:20260424T201807
CREATED:20260115T235212Z
LAST-MODIFIED:20260129T204046Z
UID:14678-1770747300-1770755400@d99tm.org
SUMMARY:Leduc Blackgold toastmasters Humorous and International Club Speech Contest
DESCRIPTION:Public and toastmasters are invited to the Club contest. Participants are from the Leduc Blackgold Toastmasters Club. \nAdmission is free. \nDate: 2026-02-10 \nStarts at: \n\n6:15 pm for participants\,\n6:45pm for public and other toastmasters\n\nDuration: 1.5-2 hours \nLocation: St David’s United Church 4614 48 Street\, Leduc\, Alberta\, T9E 5X7 \nContact Email: leducblackgoldtoastmasters@gmail.com
URL:https://d99tm.org/event/leduc-blackgold-club-speech-contest/
LOCATION:St David’s United Church\, 4614 48 Street\, Leduc\, AB\, T9E 5X7\, Canada
CATEGORIES:Club,Contests
ATTACH;FMTTYPE=image/png:https://d99tm.org/wp-content/uploads/2025/12/Speech-Contest.png
ORGANIZER;CN="Leduc Blackgold Toastmasters":MAILTO:leducblackgoldtoastmasters@gmail.com
END:VEVENT
BEGIN:VEVENT
DTSTART;TZID=America/Edmonton:20260212T193000
DTEND;TZID=America/Edmonton:20260212T203000
DTSTAMP:20260424T201807
CREATED:20251128T030258Z
LAST-MODIFIED:20251128T050418Z
UID:14507-1770924600-1770928200@d99tm.org
SUMMARY:All Things Pathways
DESCRIPTION:These Zoom sessions are for members to bring any questions they may have about Pathways and to get help if needed. \nRegistration is required. \nRegister Now!\nSessions are planned for: \nTuesday\, December 9\, 2025 7:30 – 8:30 PM MST\nWednesday\, January 14\, 2026 7:30 – 8:30 PM MST\nThursday\, February 12\, 2026 7:30 – 8:30 PM MST\nWednesday\, March 11\, 2026 7:30 – 8:30 PM MST\nTuesday\, April 7\, 2026 7:30 – 8:30 PM MST\nWednesday\, May 13\, 2026 7:30 – 8:30 PM MST
URL:https://d99tm.org/event/all-things-pathways-3/
CATEGORIES:District,Training
ATTACH;FMTTYPE=image/png:https://d99tm.org/wp-content/uploads/2025/11/All-Things-Pathways.png
END:VEVENT
BEGIN:VEVENT
DTSTART;TZID=Canada/Mountain:20260215T220000
DTEND;TZID=Canada/Mountain:20260215T220000
DTSTAMP:20260424T201807
CREATED:20250830T055155Z
LAST-MODIFIED:20250902T002140Z
UID:14042-1771192800-1771192800@d99tm.org
SUMMARY:Due Mid-Year Audit Report
DESCRIPTION:
URL:https://d99tm.org/event/due-mid-year-audit-report/
CATEGORIES:Deadline
ATTACH;FMTTYPE=image/png:https://d99tm.org/wp-content/uploads/2025/08/District-Holidays-Meetings-1.png
END:VEVENT
BEGIN:VEVENT
DTSTART;TZID=Canada/Mountain:20260215T220000
DTEND;TZID=Canada/Mountain:20260215T220000
DTSTAMP:20260424T201807
CREATED:20250830T055158Z
LAST-MODIFIED:20250902T002316Z
UID:14043-1771192800-1771192800@d99tm.org
SUMMARY:Due:  1st half of fiancial documents
DESCRIPTION:
URL:https://d99tm.org/event/due-1st-half-of-fiancial-documents/
CATEGORIES:Deadline,Finance
ATTACH;FMTTYPE=image/png:https://d99tm.org/wp-content/uploads/2025/08/District-Holidays-Meetings-1.png
END:VEVENT
BEGIN:VEVENT
DTSTART;TZID=Canada/Mountain:20260215T220000
DTEND;TZID=Canada/Mountain:20260215T220000
DTSTAMP:20260424T201807
CREATED:20250830T055159Z
LAST-MODIFIED:20250902T001847Z
UID:14044-1771192800-1771192800@d99tm.org
SUMMARY:Due:  Accrual Template and Inventory Template
DESCRIPTION:
URL:https://d99tm.org/event/due-accrual-template-and-inventory-template/
CATEGORIES:Deadline
ATTACH;FMTTYPE=image/png:https://d99tm.org/wp-content/uploads/2025/08/District-Holidays-Meetings-1.png
END:VEVENT
BEGIN:VEVENT
DTSTART;VALUE=DATE:20260216
DTEND;VALUE=DATE:20260217
DTSTAMP:20260424T201807
CREATED:20250830T053152Z
LAST-MODIFIED:20250830T053152Z
UID:14012-1771200000-1771286399@d99tm.org
SUMMARY:Family Day
DESCRIPTION:
URL:https://d99tm.org/event/family-day/
CATEGORIES:Calendar
END:VEVENT
BEGIN:VEVENT
DTSTART;TZID=America/Edmonton:20260222T190000
DTEND;TZID=America/Edmonton:20260222T200000
DTSTAMP:20260424T201807
CREATED:20250826T020100Z
LAST-MODIFIED:20250826T020100Z
UID:13936-1771786800-1771790400@d99tm.org
SUMMARY:All Leaders Call (ALC)
DESCRIPTION:Members of District Executive Committee (DEC) are: District Director\, Program Quality Director\, Club Growth Director\, Public Relations Manager\, Administration Manager\, Finance Manager\, Division Directors\, Area Directors\, and the Immediate Past District Director. \nDEC Members and Invited Guests are encouraged to join us for our next “All Leaders Call” (ALC).  This is opportunity to learn about updates in our District\, share your updates\, and there will be a Q&A session. \nAll Leaders Call \nCommencing at 7:00 PM MST/ 8:00 PM CST \nVirtual Meeting via Zoom \nAgenda and Zoom link are forthcoming. \nFor more information\, contact: am@d99tm.org
URL:https://d99tm.org/event/all-leaders-call-alc-5/
CATEGORIES:District,Meeting
ATTACH;FMTTYPE=image/png:https://d99tm.org/wp-content/uploads/2025/08/D99-All-Leaders-Call.png
END:VEVENT
BEGIN:VEVENT
DTSTART;TZID=Canada/Mountain:20260222T190000
DTEND;TZID=Canada/Mountain:20260222T203000
DTSTAMP:20260424T201807
CREATED:20250927T032845Z
LAST-MODIFIED:20250927T033232Z
UID:14246-1771786800-1771792200@d99tm.org
SUMMARY:District Executive Committee (DEC) Meeting
DESCRIPTION:District Executive Committee (DEC) MeetingThe DEC is comprised of the District Trio\, Division Directors\, Area Directors\, Public Relations Manager\, Administration Manager\, Finance Manager\, and the Immediate Past District Director. This group conducts the business of the District between council meetings\, ensuring progress toward the District Mission and Success Plan.
URL:https://d99tm.org/event/district-executive-committee-dec-meeting-2526-3/
CATEGORIES:DEC,District,Meeting
ATTACH;FMTTYPE=image/png:https://d99tm.org/wp-content/uploads/2025/08/D99-District-Exec-Committee.png
END:VEVENT
BEGIN:VEVENT
DTSTART;TZID=America/Edmonton:20260223T120000
DTEND;TZID=America/Edmonton:20260223T130000
DTSTAMP:20260424T201807
CREATED:20260129T212828Z
LAST-MODIFIED:20260129T213317Z
UID:14702-1771848000-1771851600@d99tm.org
SUMMARY:CN Tower Toastmasters Club Humorous Contest
DESCRIPTION:Please come and enjoy our Club Humorous contest on Zoom. For more details and to receive the Zoom link\, contact vpe@cntoastmasters.com.
URL:https://d99tm.org/event/cn-tower-toastmasters-club-humorous-contest/
LOCATION:Zoom
CATEGORIES:Club,Contests
ATTACH;FMTTYPE=image/png:https://d99tm.org/wp-content/uploads/2025/12/Speech-Contest.png
END:VEVENT
BEGIN:VEVENT
DTSTART;TZID=America/Edmonton:20260223T190000
DTEND;TZID=America/Edmonton:20260223T190000
DTSTAMP:20260424T201807
CREATED:20260220T233904Z
LAST-MODIFIED:20260220T234004Z
UID:14844-1771873200-1771873200@d99tm.org
SUMMARY:Sundowners Club Speech Contest
DESCRIPTION:
URL:https://d99tm.org/event/sundowners-club-speech-contest/
LOCATION:St. Matthews Church\, 13131 86 St NW\, Edmonton\, AB\, T5E 3B5\, Canada
CATEGORIES:Club,Contests
ATTACH;FMTTYPE=image/png:https://d99tm.org/wp-content/uploads/2025/12/Speech-Contest.png
END:VEVENT
BEGIN:VEVENT
DTSTART;TZID=America/Edmonton:20260225T180000
DTEND;TZID=America/Edmonton:20260225T210000
DTSTAMP:20260424T201807
CREATED:20260210T183840Z
LAST-MODIFIED:20260210T183928Z
UID:14752-1772042400-1772053200@d99tm.org
SUMMARY:Round 2 Club Officer Training
DESCRIPTION:Register Now!\nReady to take your club to the next level? Round 2 of Club Officer Training is here!\nRegister for a session here.\n \nClub Officer Training (COT) provides Presidents\, VPEs\, VPPRs\, and all club leaders with the tools\, tips\, and connections necessary to thrive in their roles. This session builds on Round 1 with fresh insights\, practical strategies\, and shared experiences from leaders across District 99. \n✅ Learn best practices for your role\n✅ Connect with fellow club officers\n✅ Strengthen your club’s path to Distinguished \nRemember: for your club to earn Distinguished credit\, at least four officers must be trained in each round!
URL:https://d99tm.org/event/round-2-club-officer-training-8/
LOCATION:Online
CATEGORIES:Club Officer Training,Division
ATTACH;FMTTYPE=image/png:https://d99tm.org/wp-content/uploads/2025/10/Club-Officer-Training-Feature.png
END:VEVENT
BEGIN:VEVENT
DTSTART;TZID=Canada/Mountain:20260228T220000
DTEND;TZID=Canada/Mountain:20260228T220000
DTSTAMP:20260424T201807
CREATED:20250830T055159Z
LAST-MODIFIED:20250902T001900Z
UID:14045-1772316000-1772316000@d99tm.org
SUMMARY:End of Round 2 COT
DESCRIPTION:
URL:https://d99tm.org/event/end-of-round-2-cot/
CATEGORIES:Deadline,District,Training
ATTACH;FMTTYPE=image/png:https://d99tm.org/wp-content/uploads/2025/08/District-Holidays-Meetings-1.png
END:VEVENT
END:VCALENDAR